BEGIN:VCALENDAR
VERSION:2.0
PRODID:-//communityadvocates.net//NONSGML kigkonsult.se iCalcreator 2.30.10
 //
CALSCALE:GREGORIAN
METHOD:PUBLISH
UID:13e233a1-9710-472a-8e09-216c45921b21
X-WR-CALDESC:The Empowerment Coalition of Milwaukee (ECOM) is a monthly gat
 hering that aims to bring social service professionals and advocates toget
 her. It is a networking\, educational\, and professional development oppor
 tunity\, featuring multiple presentations from experts in the field. This 
 month's topic is Public Assistance.\n\nSession will be held virtually from
  9:30 a.m. to 12 noon. The link will be shared with registrants before the
  session.\n\nFee is $5 for light refreshments and materials and can be pai
 d via credit card. Registrations are not refundable. Kindly make sure to R
 SVP by Friday\, December 11.
X-WR-RELCALID:bbd42b818ab93340179597d88f10f867
X-WR-TIMEZONE:America/Chicago
BEGIN:VTIMEZONE
TZID:America/Chicago
BEGIN:STANDARD
TZNAME:CST
DTSTART:20261101T020000
TZOFFSETFROM:-0500
TZOFFSETTO:-0600
RDATE:20271107T020000
END:STANDARD
BEGIN:DAYLIGHT
TZNAME:CDT
DTSTART:20260308T020000
TZOFFSETFROM:-0600
TZOFFSETTO:-0500
RDATE:20270314T020000
RDATE:20280312T020000
END:DAYLIGHT
END:VTIMEZONE
BEGIN:VEVENT
UID:433d9dca-d292-4a07-8ce9-b8b30966ad64
DTSTAMP:20260420T211118Z
DESCRIPTION:The Empowerment Coalition of Milwaukee (ECOM) is a monthly gath
 ering that aims to bring social service professionals and advocates togeth
 er. It is a networking\, educational\, and professional development opport
 unity\, featuring multiple presentations from experts in the field. This m
 onth's topic is Public Assistance.\n\nSession will be held virtually from 
 9:30 a.m. to 12 noon. The link will be shared with registrants before the 
 session.\n\nFee is $5 for light refreshments and materials and can be paid
  via credit card. Registrations are not refundable. Kindly make sure to RS
 VP by Friday\, December 11.
DTSTART;TZID=America/Chicago:20261216T093000
DTEND;TZID=America/Chicago:20261216T120000
LOCATION:
SUMMARY:ECOM Workshop: Public Assistance (Virtual)
END:VEVENT
END:VCALENDAR
