BEGIN:VCALENDAR
VERSION:2.0
PRODID:-//communityadvocates.net//NONSGML kigkonsult.se iCalcreator 2.30.10
 //
CALSCALE:GREGORIAN
METHOD:PUBLISH
UID:bfd872d9-50d2-49f0-b4b6-67db227f2b88
X-WR-CALDESC:The Empowerment Coalition of Milwaukee (ECOM) is a monthly gat
 hering that aims to bring social service professionals and advocates toget
 her. It is a networking\, educational\, and professional development oppor
 tunity\, featuring multiple presentations from experts in the field. This 
 month's topic is Veteran and Reentry Services.\n\nSession will be held in 
 person from 9:30 a.m. to 12 noon. The location will be shared with registr
 ants before each session.\n\nFee is $5 for light refreshments and material
 s and can be paid via credit card. Registrations are not refundable. Kindl
 y make sure to RSVP by Friday\, November 13.
X-WR-RELCALID:21be222dc2bc46ce128da2fd2d033180
X-WR-TIMEZONE:America/Chicago
BEGIN:VTIMEZONE
TZID:America/Chicago
BEGIN:STANDARD
TZNAME:CST
DTSTART:20261101T020000
TZOFFSETFROM:-0500
TZOFFSETTO:-0600
RDATE:20271107T020000
END:STANDARD
BEGIN:DAYLIGHT
TZNAME:CDT
DTSTART:20260308T020000
TZOFFSETFROM:-0600
TZOFFSETTO:-0500
RDATE:20270314T020000
RDATE:20280312T020000
END:DAYLIGHT
END:VTIMEZONE
BEGIN:VEVENT
UID:8eb5fbb8-4c63-4509-882b-37862ca5fd3a
DTSTAMP:20260420T194928Z
DESCRIPTION:The Empowerment Coalition of Milwaukee (ECOM) is a monthly gath
 ering that aims to bring social service professionals and advocates togeth
 er. It is a networking\, educational\, and professional development opport
 unity\, featuring multiple presentations from experts in the field. This m
 onth's topic is Veteran and Reentry Services.\n\nSession will be held in p
 erson from 9:30 a.m. to 12 noon. The location will be shared with registra
 nts before each session.\n\nFee is $5 for light refreshments and materials
  and can be paid via credit card. Registrations are not refundable. Kindly
  make sure to RSVP by Friday\, November 13.
DTSTART;TZID=America/Chicago:20261118T093000
DTEND;TZID=America/Chicago:20261118T120000
LOCATION:
SUMMARY:ECOM Workshop: Veteran and Reentry Services
END:VEVENT
END:VCALENDAR
