BEGIN:VCALENDAR
VERSION:2.0
PRODID:-//communityadvocates.net//NONSGML kigkonsult.se iCalcreator 2.30.10
 //
CALSCALE:GREGORIAN
METHOD:PUBLISH
UID:e82b28d0-858e-4ac5-b925-16514d4d0203
X-WR-CALDESC:The Empowerment Coalition of Milwaukee (ECOM) is a monthly gat
 hering that aims to bring social service professionals and advocates toget
 her. It is a networking\, educational\, and professional development oppor
 tunity\, featuring multiple presentations from experts in the field. This 
 month's topic is Domestic Violence.\n\nSession will be held in person from
  9:30 a.m. to 12 noon. The location will be shared with registrants before
  each session.\n\nFee is $5 for light refreshments and materials and can b
 e paid via credit card. Registrations are not refundable. Kindly make sure
  to RSVP by Friday\, October 16.
X-WR-RELCALID:66c226f503eaf026c7b5384486a23857
X-WR-TIMEZONE:America/Chicago
BEGIN:VTIMEZONE
TZID:America/Chicago
BEGIN:STANDARD
TZNAME:CST
DTSTART:20251102T020000
TZOFFSETFROM:-0500
TZOFFSETTO:-0600
RDATE:20261101T020000
RDATE:20271107T020000
END:STANDARD
BEGIN:DAYLIGHT
TZNAME:CDT
DTSTART:20260308T020000
TZOFFSETFROM:-0600
TZOFFSETTO:-0500
RDATE:20270314T020000
RDATE:20280312T020000
END:DAYLIGHT
END:VTIMEZONE
BEGIN:VEVENT
UID:1065e306-d81e-473f-9e39-59156805566c
DTSTAMP:20260420T173849Z
DESCRIPTION:The Empowerment Coalition of Milwaukee (ECOM) is a monthly gath
 ering that aims to bring social service professionals and advocates togeth
 er. It is a networking\, educational\, and professional development opport
 unity\, featuring multiple presentations from experts in the field. This m
 onth's topic is Domestic Violence.\n\nSession will be held in person from 
 9:30 a.m. to 12 noon. The location will be shared with registrants before 
 each session.\n\nFee is $5 for light refreshments and materials and can be
  paid via credit card. Registrations are not refundable. Kindly make sure 
 to RSVP by Friday\, October 16.
DTSTART;TZID=America/Chicago:20261021T093000
DTEND;TZID=America/Chicago:20261021T120000
LOCATION:
SUMMARY:ECOM Workshop: Domestic Violence
END:VEVENT
END:VCALENDAR
