BEGIN:VCALENDAR
VERSION:2.0
PRODID:-//communityadvocates.net//NONSGML kigkonsult.se iCalcreator 2.30.10
 //
CALSCALE:GREGORIAN
METHOD:PUBLISH
UID:9d2c8443-7440-43e0-8a9c-c13d244839ff
X-WR-CALDESC:The Empowerment Coalition of Milwaukee (ECOM) is a monthly gat
 hering that aims to bring social service professionals and advocates toget
 her. It is a networking\, educational\, and professional development oppor
 tunity\, featuring multiple presentations from experts in the field. This 
 month's topic is Utility Services.\n\nSession will be held in person from 
 9:30 a.m. to 12 noon. The location will be shared with registrants before 
 each session.\n\nFee is $5 for light refreshments and materials and can be
  paid via credit card. Registrations are not refundable. Kindly make sure 
 to RSVP by Friday\, September 11.
X-WR-RELCALID:7a61374c565a8a0df6965a872fd2a721
X-WR-TIMEZONE:America/Chicago
BEGIN:VTIMEZONE
TZID:America/Chicago
BEGIN:STANDARD
TZNAME:CST
DTSTART:20251102T020000
TZOFFSETFROM:-0500
TZOFFSETTO:-0600
RDATE:20261101T020000
RDATE:20271107T020000
END:STANDARD
BEGIN:DAYLIGHT
TZNAME:CDT
DTSTART:20260308T020000
TZOFFSETFROM:-0600
TZOFFSETTO:-0500
RDATE:20270314T020000
RDATE:20280312T020000
END:DAYLIGHT
END:VTIMEZONE
BEGIN:VEVENT
UID:b5aa6a10-c1d8-455b-85dc-da60be173c33
DTSTAMP:20260420T162527Z
DESCRIPTION:The Empowerment Coalition of Milwaukee (ECOM) is a monthly gath
 ering that aims to bring social service professionals and advocates togeth
 er. It is a networking\, educational\, and professional development opport
 unity\, featuring multiple presentations from experts in the field. This m
 onth's topic is Utility Services.\n\nSession will be held in person from 9
 :30 a.m. to 12 noon. The location will be shared with registrants before e
 ach session.\n\nFee is $5 for light refreshments and materials and can be 
 paid via credit card. Registrations are not refundable. Kindly make sure t
 o RSVP by Friday\, September 11.
DTSTART;TZID=America/Chicago:20260916T093000
DTEND;TZID=America/Chicago:20260916T120000
LOCATION:
SUMMARY:ECOM Workshop: Utility Services
END:VEVENT
END:VCALENDAR
