BEGIN:VCALENDAR
VERSION:2.0
PRODID:-//communityadvocates.net//NONSGML kigkonsult.se iCalcreator 2.30.10
 //
CALSCALE:GREGORIAN
METHOD:PUBLISH
UID:600594d8-8c46-4323-997f-d43a5c981bb8
X-WR-CALDESC:The Empowerment Coalition of Milwaukee (ECOM) is a monthly gat
 hering that aims to bring social service professionals and advocates toget
 her. It is a networking\, educational\, and professional development oppor
 tunity\, featuring multiple presentations from experts in the field. This 
 month's topic is Medical Services.\n\nSession will be held in person from 
 9:30 a.m. to 12 noon. The location will be shared with registrants before 
 each session.\n\nFee is $5 for light refreshments and materials and can be
  paid via credit card. Registrations are not refundable. Kindly make sure 
 to RSVP by Friday\, August 14.
X-WR-RELCALID:99074e5c4e54ec9f4d05ac9b5c240eb3
X-WR-TIMEZONE:America/Chicago
BEGIN:VTIMEZONE
TZID:America/Chicago
BEGIN:STANDARD
TZNAME:CST
DTSTART:20251102T020000
TZOFFSETFROM:-0500
TZOFFSETTO:-0600
RDATE:20261101T020000
RDATE:20271107T020000
END:STANDARD
BEGIN:DAYLIGHT
TZNAME:CDT
DTSTART:20260308T020000
TZOFFSETFROM:-0600
TZOFFSETTO:-0500
RDATE:20270314T020000
END:DAYLIGHT
END:VTIMEZONE
BEGIN:VEVENT
UID:de93af7b-2bd5-4566-9599-46bde517c030
DTSTAMP:20260420T145832Z
DESCRIPTION:The Empowerment Coalition of Milwaukee (ECOM) is a monthly gath
 ering that aims to bring social service professionals and advocates togeth
 er. It is a networking\, educational\, and professional development opport
 unity\, featuring multiple presentations from experts in the field. This m
 onth's topic is Medical Services.\n\nSession will be held in person from 9
 :30 a.m. to 12 noon. The location will be shared with registrants before e
 ach session.\n\nFee is $5 for light refreshments and materials and can be 
 paid via credit card. Registrations are not refundable. Kindly make sure t
 o RSVP by Friday\, August 14.
DTSTART;TZID=America/Chicago:20260819T093000
DTEND;TZID=America/Chicago:20260819T120000
LOCATION:
SUMMARY:ECOM Workshop: Medical Serivces
END:VEVENT
END:VCALENDAR
