BEGIN:VCALENDAR
VERSION:2.0
PRODID:-//communityadvocates.net//NONSGML kigkonsult.se iCalcreator 2.30.10
 //
CALSCALE:GREGORIAN
METHOD:PUBLISH
UID:67c612c4-e26f-49be-ac1d-3e0f10180283
X-WR-CALDESC:The Empowerment Coalition of Milwaukee (ECOM) is a monthly gat
 hering that aims to bring social service professionals and advocates toget
 her. It is a networking\, educational\, and professional development oppor
 tunity\, featuring multiple presentations from experts in the field. This 
 month's topic is Adoption\, Foster Care\, Prenatal Services\, Parenting Su
 pport.\n\nSession will be held in person from 9:30 a.m. to 12 noon. The lo
 cation will be shared with registrants before each session.\n\nFee is $5 f
 or light refreshments and materials and can be paid via credit card. Regis
 trations are not refundable. Kindly make sure to RSVP by Friday\, July 10.
X-WR-RELCALID:fce7dd89b00dae1da60019fdcb5fc4d6
X-WR-TIMEZONE:America/Chicago
BEGIN:VTIMEZONE
TZID:America/Chicago
BEGIN:STANDARD
TZNAME:CST
DTSTART:20251102T020000
TZOFFSETFROM:-0500
TZOFFSETTO:-0600
RDATE:20261101T020000
RDATE:20271107T020000
END:STANDARD
BEGIN:DAYLIGHT
TZNAME:CDT
DTSTART:20260308T020000
TZOFFSETFROM:-0600
TZOFFSETTO:-0500
RDATE:20270314T020000
END:DAYLIGHT
END:VTIMEZONE
BEGIN:VEVENT
UID:1fefe13b-351c-4eaf-9932-b741983dc8e6
DTSTAMP:20260420T134004Z
DESCRIPTION:The Empowerment Coalition of Milwaukee (ECOM) is a monthly gath
 ering that aims to bring social service professionals and advocates togeth
 er. It is a networking\, educational\, and professional development opport
 unity\, featuring multiple presentations from experts in the field. This m
 onth's topic is Adoption\, Foster Care\, Prenatal Services\, Parenting Sup
 port.\n\nSession will be held in person from 9:30 a.m. to 12 noon. The loc
 ation will be shared with registrants before each session.\n\nFee is $5 fo
 r light refreshments and materials and can be paid via credit card. Regist
 rations are not refundable. Kindly make sure to RSVP by Friday\, July 10.
DTSTART;TZID=America/Chicago:20260715T093000
DTEND;TZID=America/Chicago:20260715T120000
LOCATION:
SUMMARY:ECOM Workshop: Adoption\, Foster Care\, Prenatal Services\, Parenti
 ng Support
END:VEVENT
END:VCALENDAR
