BEGIN:VCALENDAR
VERSION:2.0
PRODID:-//communityadvocates.net//NONSGML kigkonsult.se iCalcreator 2.30.10
 //
CALSCALE:GREGORIAN
METHOD:PUBLISH
UID:dadf0ec2-40c8-47b3-9cf2-e6f2b292f685
X-WR-CALDESC:The Empowerment Coalition of Milwaukee (ECOM) is a monthly gat
 hering that aims to bring social service professionals and advocates toget
 her. It is a networking\, educational\, and professional development oppor
 tunity\, featuring multiple presentations from experts in the field. This 
 month's topic is LGBTQ+ Services.\n\nSession will be held in person from 9
 :30 a.m. to 12 noon. The location will be shared with registrants before e
 ach session.\n\nFee is $5 for light refreshments and materials and can be 
 paid via credit card. Registrations are not refundable. Kindly make sure t
 o RSVP by Friday\, June 19.
X-WR-RELCALID:5f6f76a5147b1d1e711ff455cc6a1408
X-WR-TIMEZONE:America/Chicago
BEGIN:VTIMEZONE
TZID:America/Chicago
BEGIN:STANDARD
TZNAME:CST
DTSTART:20251102T020000
TZOFFSETFROM:-0500
TZOFFSETTO:-0600
RDATE:20261101T020000
RDATE:20271107T020000
END:STANDARD
BEGIN:DAYLIGHT
TZNAME:CDT
DTSTART:20260308T020000
TZOFFSETFROM:-0600
TZOFFSETTO:-0500
RDATE:20270314T020000
END:DAYLIGHT
END:VTIMEZONE
BEGIN:VEVENT
UID:47c0c403-1028-4777-9309-909d3dd6c9e7
DTSTAMP:20260420T123609Z
DESCRIPTION:The Empowerment Coalition of Milwaukee (ECOM) is a monthly gath
 ering that aims to bring social service professionals and advocates togeth
 er. It is a networking\, educational\, and professional development opport
 unity\, featuring multiple presentations from experts in the field. This m
 onth's topic is LGBTQ+ Services.\n\nSession will be held in person from 9:
 30 a.m. to 12 noon. The location will be shared with registrants before ea
 ch session.\n\nFee is $5 for light refreshments and materials and can be p
 aid via credit card. Registrations are not refundable. Kindly make sure to
  RSVP by Friday\, June 19.
DTSTART;TZID=America/Chicago:20260624T093000
DTEND;TZID=America/Chicago:20260624T120000
LOCATION:
SUMMARY:ECOM Workshop: LGBTQ+ Services
END:VEVENT
END:VCALENDAR
