BEGIN:VCALENDAR
VERSION:2.0
PRODID:-//communityadvocates.net//NONSGML kigkonsult.se iCalcreator 2.30.10
 //
CALSCALE:GREGORIAN
METHOD:PUBLISH
UID:08b95f7b-8d58-4d63-8d39-5d58a9b38c01
X-WR-CALDESC:Community Advocates' offices will be closed on Friday\, June 1
 9\, to celebrate Juneteenth. However\, our 24-hour programs will remain op
 en — the Milwaukee Women's Center Emergency Shelter and the Autumn West Sa
 fe Haven. If you are experiencing a domestic violence issue\, please call 
 our 24/7 Domestic Violence Crisis Line at 414-671-6140. If you need help w
 ith your basic needs\, please contact IMPACT 211. We will be back in touch
  on Monday\, June 22.
X-WR-RELCALID:106e6aa9e831ac189afc883bc58a8d4d
X-WR-TIMEZONE:America/Chicago
BEGIN:VTIMEZONE
TZID:America/Chicago
BEGIN:STANDARD
TZNAME:CST
DTSTART:20251102T020000
TZOFFSETFROM:-0500
TZOFFSETTO:-0600
RDATE:20261101T020000
RDATE:20271107T020000
END:STANDARD
BEGIN:DAYLIGHT
TZNAME:CDT
DTSTART:20260308T020000
TZOFFSETFROM:-0600
TZOFFSETTO:-0500
RDATE:20270314T020000
END:DAYLIGHT
END:VTIMEZONE
BEGIN:VEVENT
UID:082ca3f0-bd7a-46aa-a846-423b2e2e3a8b
DTSTAMP:20260420T111742Z
DESCRIPTION:Community Advocates' offices will be closed on Friday\, June 19
 \, to celebrate Juneteenth. However\, our 24-hour programs will remain ope
 n — the Milwaukee Women's Center Emergency Shelter and the Autumn West Saf
 e Haven. If you are experiencing a domestic violence issue\, please call o
 ur 24/7 Domestic Violence Crisis Line at 414-671-6140. If you need help wi
 th your basic needs\, please contact IMPACT 211. We will be back in touch 
 on Monday\, June 22.
DTSTART;TZID=America/Chicago:20260619T050000
DTEND;TZID=America/Chicago:20260619T050001
LOCATION:
SUMMARY:Juneteenth
END:VEVENT
END:VCALENDAR
