BEGIN:VCALENDAR
VERSION:2.0
PRODID:-//communityadvocates.net//NONSGML kigkonsult.se iCalcreator 2.30.10
 //
CALSCALE:GREGORIAN
METHOD:PUBLISH
UID:2b2c4eeb-d6df-4b5a-8de8-0f2ad99d5cff
X-WR-CALDESC:The Empowerment Coalition of Milwaukee (ECOM) is a monthly gat
 hering that aims to bring social service professionals and advocates toget
 her. It is a networking\, educational\, and professional development oppor
 tunity\, featuring multiple presentations from experts in the field. This 
 month's topic is Legal Services.\n\nSession will be held in person from 9:
 30 a.m. to 12 noon. The location will be shared with registrants before ea
 ch session.\n\nFee is $5 for light refreshments and materials and can be p
 aid via credit card. Registrations are not refundable. Kindly make sure to
  RSVP by Friday\, March 13.
X-WR-RELCALID:79917351b5870dd362b8dcde34d10644
X-WR-TIMEZONE:America/Chicago
BEGIN:VTIMEZONE
TZID:America/Chicago
BEGIN:STANDARD
TZNAME:CST
DTSTART:20251102T020000
TZOFFSETFROM:-0500
TZOFFSETTO:-0600
RDATE:20261101T020000
END:STANDARD
BEGIN:DAYLIGHT
TZNAME:CDT
DTSTART:20260308T020000
TZOFFSETFROM:-0600
TZOFFSETTO:-0500
RDATE:20270314T020000
END:DAYLIGHT
END:VTIMEZONE
BEGIN:VEVENT
UID:6cf9a3dc-d8ad-4a5a-a089-a7c2f1d55062
DTSTAMP:20260420T111333Z
DESCRIPTION:The Empowerment Coalition of Milwaukee (ECOM) is a monthly gath
 ering that aims to bring social service professionals and advocates togeth
 er. It is a networking\, educational\, and professional development opport
 unity\, featuring multiple presentations from experts in the field. This m
 onth's topic is Legal Services.\n\nSession will be held in person from 9:3
 0 a.m. to 12 noon. The location will be shared with registrants before eac
 h session.\n\nFee is $5 for light refreshments and materials and can be pa
 id via credit card. Registrations are not refundable. Kindly make sure to 
 RSVP by Friday\, March 13.
DTSTART;TZID=America/Chicago:20260318T093000
DTEND;TZID=America/Chicago:20260318T120000
LOCATION:
SUMMARY:ECOM Workshop: Legal Services
END:VEVENT
END:VCALENDAR
