BEGIN:VCALENDAR
VERSION:2.0
PRODID:-//communityadvocates.net//NONSGML kigkonsult.se iCalcreator 2.30.10
 //
CALSCALE:GREGORIAN
METHOD:PUBLISH
UID:901ae288-80e9-4fc9-b5ba-0238000f6d05
X-WR-CALDESC:Looking for housing? Join the Milwaukee Rental Housing Resourc
 e Center for the Landlord & Property Management: Rental Application Event!
 \n\nMeet local landlords and property managers who will be hosting booths\
 , explore available units\, and get guided assistance completing rental ap
 plications. This event is designed to make the housing search easier and m
 ore accessible for Milwaukee community members.\n\nPlease bring the follow
 ing:\n\n- Current income documentation (Two full months of paystubs and/or
  updated Social Security award letter)\n- Asset statement (Bank statements
 \, Statements from investment accounts\, Prepaid debit card statements\, e
 tc.)\n- Driver's license\n- Social Security cards\n- Copy of your birth ce
 rtificate\n\n<b>No registration required — feel free to walk in anytime du
 ring the event!</b>
X-WR-RELCALID:7b18bc8229e166ac0f0c2af3bc4c9ea8
X-WR-TIMEZONE:America/Chicago
BEGIN:VTIMEZONE
TZID:America/Chicago
BEGIN:STANDARD
TZNAME:CST
DTSTART:20251102T020000
TZOFFSETFROM:-0500
TZOFFSETTO:-0600
RDATE:20261101T020000
END:STANDARD
BEGIN:DAYLIGHT
TZNAME:CDT
DTSTART:20260308T020000
TZOFFSETFROM:-0600
TZOFFSETTO:-0500
RDATE:20270314T020000
END:DAYLIGHT
END:VTIMEZONE
BEGIN:VEVENT
UID:1f09be4c-6c38-4ec1-8699-ed082f71a1c0
DTSTAMP:20260420T110608Z
DESCRIPTION:Looking for housing? Join the Milwaukee Rental Housing Resource
  Center for the Landlord & Property Management: Rental Application Event!
 \n\nMeet local landlords and property managers who will be hosting booths\
 , explore available units\, and get guided assistance completing rental ap
 plications. This event is designed to make the housing search easier and m
 ore accessible for Milwaukee community members.\n\nPlease bring the follow
 ing:\n\n- Current income documentation (Two full months of paystubs and/or
  updated Social Security award letter)\n- Asset statement (Bank statements
 \, Statements from investment accounts\, Prepaid debit card statements\, e
 tc.)\n- Driver's license\n- Social Security cards\n- Copy of your birth ce
 rtificate\n\n<b>No registration required — feel free to walk in anytime du
 ring the event!</b>
DTSTART;TZID=America/Chicago:20260311T100000
DTEND;TZID=America/Chicago:20260311T140000
LOCATION:Community Advocates \, 728 N. James Lovell Street\, Milwaukee\, WI
  53233 US
SUMMARY:Landlord & Property Management: Rental Application Event
END:VEVENT
END:VCALENDAR
