BEGIN:VCALENDAR
VERSION:2.0
PRODID:-//communityadvocates.net//NONSGML kigkonsult.se iCalcreator 2.30.10
 //
CALSCALE:GREGORIAN
METHOD:PUBLISH
UID:f6117980-6c92-466f-9945-6962e8df8e55
X-WR-CALDESC:The Empowerment Coalition of Milwaukee (ECOM) is a monthly gat
 hering that aims to bring social service professionals and advocates toget
 her. It is a networking\, educational\, and professional development oppor
 tunity\, featuring multiple presentations from experts in the field. This 
 month's topic is Autism and Disability Services.\n\nSession will be held i
 n person from 9:30 a.m. to 12 noon. The location will be shared with regis
 trants before each session.\n\nFee is $5 for light refreshments and materi
 als and can be paid via credit card. Registrations are not refundable. Kin
 dly make sure to RSVP by Friday\, February 13.
X-WR-RELCALID:5b2ca026fb179baaee8168a76cf1b15e
X-WR-TIMEZONE:America/Chicago
BEGIN:VTIMEZONE
TZID:America/Chicago
BEGIN:STANDARD
TZNAME:CST
DTSTART:20251102T020000
TZOFFSETFROM:-0500
TZOFFSETTO:-0600
RDATE:20261101T020000
END:STANDARD
BEGIN:DAYLIGHT
TZNAME:CDT
DTSTART:20250309T020000
TZOFFSETFROM:-0600
TZOFFSETTO:-0500
RDATE:20260308T020000
RDATE:20270314T020000
END:DAYLIGHT
END:VTIMEZONE
BEGIN:VEVENT
UID:39dd7e55-f04b-442e-86dd-47d38aa34faf
DTSTAMP:20260420T123819Z
DESCRIPTION:The Empowerment Coalition of Milwaukee (ECOM) is a monthly gath
 ering that aims to bring social service professionals and advocates togeth
 er. It is a networking\, educational\, and professional development opport
 unity\, featuring multiple presentations from experts in the field. This m
 onth's topic is Autism and Disability Services.\n\nSession will be held in
  person from 9:30 a.m. to 12 noon. The location will be shared with regist
 rants before each session.\n\nFee is $5 for light refreshments and materia
 ls and can be paid via credit card. Registrations are not refundable. Kind
 ly make sure to RSVP by Friday\, February 13.
DTSTART;TZID=America/Chicago:20260218T093000
DTEND;TZID=America/Chicago:20260218T120000
LOCATION:
SUMMARY:ECOM Workshop: Autism and Disability Services
END:VEVENT
END:VCALENDAR
