BEGIN:VCALENDAR
VERSION:2.0
PRODID:-//communityadvocates.net//NONSGML kigkonsult.se iCalcreator 2.30.10
 //
CALSCALE:GREGORIAN
METHOD:PUBLISH
UID:70b6e452-1aa3-4190-8450-c9ac597f7785
X-WR-CALDESC:Community Advocates will be closed on Thursday\, January 22 an
  all-staff training. However\, our 24-hour programs will remain open — the
  Milwaukee Women's Center Emergency Shelter and the Autumn West Safe Haven
 . If you are experiencing a domestic violence issue\, please call our 24/7
  Domestic Violence Crisis Line at 414-671-6140. If you need help with your
  basic needs\, please contact IMPACT 211. We will be back in touch on Frid
 ay\, January 23.
X-WR-RELCALID:5080b8be55283bb9cd1bf767cace7806
X-WR-TIMEZONE:America/Chicago
BEGIN:VTIMEZONE
TZID:America/Chicago
BEGIN:STANDARD
TZNAME:CST
DTSTART:20251102T020000
TZOFFSETFROM:-0500
TZOFFSETTO:-0600
RDATE:20261101T020000
END:STANDARD
BEGIN:DAYLIGHT
TZNAME:CDT
DTSTART:20250309T020000
TZOFFSETFROM:-0600
TZOFFSETTO:-0500
RDATE:20260308T020000
RDATE:20270314T020000
END:DAYLIGHT
END:VTIMEZONE
BEGIN:VEVENT
UID:51900057-7638-4281-9e5e-53f312127307
DTSTAMP:20260420T134320Z
DESCRIPTION:Community Advocates will be closed on Thursday\, January 22 an 
 all-staff training. However\, our 24-hour programs will remain open — the 
 Milwaukee Women's Center Emergency Shelter and the Autumn West Safe Haven.
  If you are experiencing a domestic violence issue\, please call our 24/7 
 Domestic Violence Crisis Line at 414-671-6140. If you need help with your 
 basic needs\, please contact IMPACT 211. We will be back in touch on Frida
 y\, January 23.
DTSTART;TZID=America/Chicago:20260122T050000
DTEND;TZID=America/Chicago:20260122T050001
LOCATION:
SUMMARY:Closed for All-Staff Training
END:VEVENT
END:VCALENDAR
