BEGIN:VCALENDAR
VERSION:2.0
PRODID:-//communityadvocates.net//NONSGML kigkonsult.se iCalcreator 2.30.10
 //
CALSCALE:GREGORIAN
METHOD:PUBLISH
UID:a1b9d150-feeb-4746-9e63-f8c44423ea90
X-WR-CALDESC:The Empowerment Coalition of Milwaukee (ECOM) is a monthly gat
 hering that aims to bring social service professionals and advocates toget
 her. It is a networking\, educational\, and professional development oppor
 tunity\, featuring multiple presentations from experts in the field.\n\nTh
 is month's topic is Housing. Session will be held in person from 9:30 a.m.
  to 12 noon. at Community Advocates\, 728 N. James Lovell St.\, Milwaukee.
 \n\nFee is $5 for light refreshments and materials and can be paid via cre
 dit card. Registrations are not refundable. Kindly make sure to RSVP by Fr
 iday\, January 16.
X-WR-RELCALID:f9d6a1f69f924e9869f8778112d37a57
X-WR-TIMEZONE:America/Chicago
BEGIN:VTIMEZONE
TZID:America/Chicago
BEGIN:STANDARD
TZNAME:CST
DTSTART:20251102T020000
TZOFFSETFROM:-0500
TZOFFSETTO:-0600
RDATE:20261101T020000
END:STANDARD
BEGIN:DAYLIGHT
TZNAME:CDT
DTSTART:20250309T020000
TZOFFSETFROM:-0600
TZOFFSETTO:-0500
RDATE:20260308T020000
RDATE:20270314T020000
END:DAYLIGHT
END:VTIMEZONE
BEGIN:VEVENT
UID:0893de9c-8ef3-41b5-ba56-f041761e13ee
DTSTAMP:20260420T133357Z
DESCRIPTION:The Empowerment Coalition of Milwaukee (ECOM) is a monthly gath
 ering that aims to bring social service professionals and advocates togeth
 er. It is a networking\, educational\, and professional development opport
 unity\, featuring multiple presentations from experts in the field.\n\nThi
 s month's topic is Housing. Session will be held in person from 9:30 a.m. 
 to 12 noon. at Community Advocates\, 728 N. James Lovell St.\, Milwaukee.
 \n\nFee is $5 for light refreshments and materials and can be paid via cre
 dit card. Registrations are not refundable. Kindly make sure to RSVP by Fr
 iday\, January 16.
DTSTART;TZID=America/Chicago:20260121T093000
DTEND;TZID=America/Chicago:20260121T120000
LOCATION:Community Advocates \, 728 N. James Lovell Street\, Milwaukee\, WI
  53233 US
SUMMARY:ECOM Workshop: Housing
END:VEVENT
END:VCALENDAR
