BEGIN:VCALENDAR
VERSION:2.0
PRODID:-//communityadvocates.net//NONSGML kigkonsult.se iCalcreator 2.30.10
 //
CALSCALE:GREGORIAN
METHOD:PUBLISH
UID:94503693-00c7-4072-8021-80983cf18de5
X-WR-CALDESC:Community Advocates will be closed on Monday\, January 19 in o
 bservance of Martin Luther King Jr. Day. However\, our 24-hour programs wi
 ll remain open — the Milwaukee Women's Center Emergency Shelter and the Au
 tumn West Safe Haven. If you are experiencing a domestic violence issue\, 
 please call our 24/7 Domestic Violence Crisis Line at 414-671-6140. If you
  need help with your basic needs\, please contact IMPACT 211. We will be b
 ack in touch on Tuesday\, January 20.
X-WR-RELCALID:17fd93b03c3d130d75ec942e0c27bc1e
X-WR-TIMEZONE:America/Chicago
BEGIN:VTIMEZONE
TZID:America/Chicago
BEGIN:STANDARD
TZNAME:CST
DTSTART:20251102T020000
TZOFFSETFROM:-0500
TZOFFSETTO:-0600
RDATE:20261101T020000
END:STANDARD
BEGIN:DAYLIGHT
TZNAME:CDT
DTSTART:20250309T020000
TZOFFSETFROM:-0600
TZOFFSETTO:-0500
RDATE:20260308T020000
RDATE:20270314T020000
END:DAYLIGHT
END:VTIMEZONE
BEGIN:VEVENT
UID:ceafee14-2b7a-4137-9345-32f385050bb4
DTSTAMP:20260420T134936Z
DESCRIPTION:Community Advocates will be closed on Monday\, January 19 in ob
 servance of Martin Luther King Jr. Day. However\, our 24-hour programs wil
 l remain open — the Milwaukee Women's Center Emergency Shelter and the Aut
 umn West Safe Haven. If you are experiencing a domestic violence issue\, p
 lease call our 24/7 Domestic Violence Crisis Line at 414-671-6140. If you 
 need help with your basic needs\, please contact IMPACT 211. We will be ba
 ck in touch on Tuesday\, January 20.
DTSTART;TZID=America/Chicago:20260119T050000
DTEND;TZID=America/Chicago:20260119T050001
LOCATION:
SUMMARY:Closed in Observance of Martin Luther King Jr. Day
END:VEVENT
END:VCALENDAR
