BEGIN:VCALENDAR
VERSION:2.0
PRODID:-//communityadvocates.net//NONSGML kigkonsult.se iCalcreator 2.30.10
 //
CALSCALE:GREGORIAN
METHOD:PUBLISH
UID:89d79dca-ae7f-498c-b9be-d148f3c59dc7
X-WR-CALDESC:Community Advocates' offices will be closed on December 31\, 2
 025 and January 1\, 2026 to celebrate the New Year's holiday. However\, ou
 r 24-hour programs will remain open — the Milwaukee Women's Center Emergen
 cy Shelter and the Autumn West Safe Haven. If you are experiencing a domes
 tic violence issue\, please call our 24/7 Domestic Violence Crisis Line at
  414-671-6140. If you need help with your basic needs over the holidays\, 
 please contact IMPACT 211. We will be back in touch on January 2.
X-WR-RELCALID:56252a5183372193238c0a480dd1e860
X-WR-TIMEZONE:America/Chicago
BEGIN:VTIMEZONE
TZID:America/Chicago
BEGIN:STANDARD
TZNAME:CST
DTSTART:20251102T020000
TZOFFSETFROM:-0500
TZOFFSETTO:-0600
RDATE:20261101T020000
END:STANDARD
BEGIN:DAYLIGHT
TZNAME:CDT
DTSTART:20250309T020000
TZOFFSETFROM:-0600
TZOFFSETTO:-0500
RDATE:20260308T020000
RDATE:20270314T020000
END:DAYLIGHT
END:VTIMEZONE
BEGIN:VEVENT
UID:8fd31f85-195b-4e6e-a30f-034f694cb83d
DTSTAMP:20260420T152800Z
DESCRIPTION:Community Advocates' offices will be closed on December 31\, 20
 25 and January 1\, 2026 to celebrate the New Year's holiday. However\, our
  24-hour programs will remain open — the Milwaukee Women's Center Emergenc
 y Shelter and the Autumn West Safe Haven. If you are experiencing a domest
 ic violence issue\, please call our 24/7 Domestic Violence Crisis Line at 
 414-671-6140. If you need help with your basic needs over the holidays\, p
 lease contact IMPACT 211. We will be back in touch on January 2.
DTSTART;TZID=America/Chicago:20251231T050000
DTEND;TZID=America/Chicago:20260101T050001
LOCATION:
SUMMARY:New Year's Closure
END:VEVENT
END:VCALENDAR
