BEGIN:VCALENDAR
VERSION:2.0
PRODID:-//communityadvocates.net//NONSGML kigkonsult.se iCalcreator 2.30.10
 //
CALSCALE:GREGORIAN
METHOD:PUBLISH
UID:f8f677e7-fe94-4bf5-abad-817263e3e61e
X-WR-CALDESC:The Empowerment Coalition of Milwaukee (ECOM) is a monthly gat
 hering of social services professionals\, advocates\, and consumers organi
 zed by Community Advocates Public Policy Institute. ECOM explores topics t
 hat are vital to Milwaukee’s human services professionals. Each session fe
 atures multiple presentations from experts and opportunities to share reso
 urces. This month’s topic is Veterans Services and Reentry Services.\n\nSe
 ssions will be held in person from 9:30 a.m. to 12 noon. The location will
  be shared with registrants before each session.\n\nFee is $5 for light re
 freshments and materials and can be paid via credit card. Registrations ar
 e not refundable. Kindly make sure to RSVP by the Friday prior to each mee
 ting.\n\nOur 2025 ECOM Workshops:\nJanuary 22: Housing\nFebruary 19: Child
  Abuse and Neglect\, Elder Abuse\, and Medicaid \nMarch 19: Legal Services
 \nApril 16: W2\, FoodShare\, FSET\, and SSI\nMay 21: Mental Health\nJune 2
 5: LGBTQ+ Services\nJuly 16: Adoption\, Foster Care\, Prenatal Services\, 
 and Parenting Support \nAugust 20: Job Services\, Financial Literacy\, and
  GED \nSeptember 17: Energy Assistance\nOctober 15: Domestic Violence\nNov
 ember 19: Rescheduled\nDecember 17: Veterans Services and Reentry Services
X-WR-RELCALID:af4ba5b680f0af57fba916915c4cb30d
X-WR-TIMEZONE:America/Chicago
BEGIN:VTIMEZONE
TZID:America/Chicago
BEGIN:STANDARD
TZNAME:CST
DTSTART:20251102T020000
TZOFFSETFROM:-0500
TZOFFSETTO:-0600
RDATE:20261101T020000
END:STANDARD
BEGIN:DAYLIGHT
TZNAME:CDT
DTSTART:20250309T020000
TZOFFSETFROM:-0600
TZOFFSETTO:-0500
RDATE:20260308T020000
RDATE:20270314T020000
END:DAYLIGHT
END:VTIMEZONE
BEGIN:VEVENT
UID:58010384-9861-4c9b-a734-47a14dd027fd
DTSTAMP:20260420T152340Z
DESCRIPTION:The Empowerment Coalition of Milwaukee (ECOM) is a monthly gath
 ering of social services professionals\, advocates\, and consumers organiz
 ed by Community Advocates Public Policy Institute. ECOM explores topics th
 at are vital to Milwaukee’s human services professionals. Each session fea
 tures multiple presentations from experts and opportunities to share resou
 rces. This month’s topic is Veterans Services and Reentry Services.\n\nSes
 sions will be held in person from 9:30 a.m. to 12 noon. The location will 
 be shared with registrants before each session.\n\nFee is $5 for light ref
 reshments and materials and can be paid via credit card. Registrations are
  not refundable. Kindly make sure to RSVP by the Friday prior to each meet
 ing.\n\nOur 2025 ECOM Workshops:\nJanuary 22: Housing\nFebruary 19: Child 
 Abuse and Neglect\, Elder Abuse\, and Medicaid \nMarch 19: Legal Services
 \nApril 16: W2\, FoodShare\, FSET\, and SSI\nMay 21: Mental Health\nJune 2
 5: LGBTQ+ Services\nJuly 16: Adoption\, Foster Care\, Prenatal Services\, 
 and Parenting Support \nAugust 20: Job Services\, Financial Literacy\, and
  GED \nSeptember 17: Energy Assistance\nOctober 15: Domestic Violence\nNov
 ember 19: Rescheduled\nDecember 17: Veterans Services and Reentry Services
DTSTART;TZID=America/Chicago:20251217T093000
DTEND;TZID=America/Chicago:20251217T120000
LOCATION:Location TBD
SUMMARY:ECOM Workshop: Veterans Services and Reentry Services
END:VEVENT
END:VCALENDAR
