BEGIN:VCALENDAR
VERSION:2.0
PRODID:-//communityadvocates.net//NONSGML kigkonsult.se iCalcreator 2.30.10
 //
CALSCALE:GREGORIAN
METHOD:PUBLISH
UID:8df990fe-a92b-4170-915e-3f63ce31cfc5
X-WR-CALDESC:During this virtual workshop\, you will learn:\n\n- Tips to he
 lp navigate conflict around the holiday table\n- How to prepare yourself b
 efore you go\n- How to disagree with grace\n\nParticipants will explore fo
 undational information on how to reduce the level of conflict through self
 -knowledge\, understand how past experiences influence current behavior\, 
 and practice de-escalation.\n\nThis session is free and open to everyone. 
 We appreciate your interest in learning more about mental health and welln
 ess.
X-WR-RELCALID:4d373fd20d6e26ef10adc5e85d5e55bf
X-WR-TIMEZONE:America/Chicago
BEGIN:VTIMEZONE
TZID:America/Chicago
BEGIN:STANDARD
TZNAME:CST
DTSTART:20251102T020000
TZOFFSETFROM:-0500
TZOFFSETTO:-0600
RDATE:20261101T020000
END:STANDARD
BEGIN:DAYLIGHT
TZNAME:CDT
DTSTART:20250309T020000
TZOFFSETFROM:-0600
TZOFFSETTO:-0500
RDATE:20260308T020000
RDATE:20270314T020000
END:DAYLIGHT
END:VTIMEZONE
BEGIN:VEVENT
UID:79b4dd3e-794e-44fd-8d62-db22b0ad8f46
DTSTAMP:20260420T152554Z
DESCRIPTION:During this virtual workshop\, you will learn:\n\n- Tips to hel
 p navigate conflict around the holiday table\n- How to prepare yourself be
 fore you go\n- How to disagree with grace\n\nParticipants will explore fou
 ndational information on how to reduce the level of conflict through self-
 knowledge\, understand how past experiences influence current behavior\, a
 nd practice de-escalation.\n\nThis session is free and open to everyone. W
 e appreciate your interest in learning more about mental health and wellne
 ss.
DTSTART;TZID=America/Chicago:20251211T090000
DTEND;TZID=America/Chicago:20251211T103000
LOCATION:Via Zoom
SUMMARY:De-Escalating Conflict During the Holidays | December 11
END:VEVENT
END:VCALENDAR
