BEGIN:VCALENDAR
VERSION:2.0
PRODID:-//communityadvocates.net//NONSGML kigkonsult.se iCalcreator 2.30.10
 //
CALSCALE:GREGORIAN
METHOD:PUBLISH
UID:5dd79f18-6b1a-4016-a667-054953510dfa
X-WR-CALDESC:During this virtual workshop\, you will learn:\n\n- Tips to he
 lp navigate conflict around the holiday table\n- How to prepare yourself b
 efore you go\n- How to disagree with grace\n\nParticipants will explore fo
 undational information on how to reduce the level of conflict through self
 -knowledge\, understand how past experiences influence current behavior\, 
 and practice de-escalation.\n\nThis session is free and open to everyone. 
 We appreciate your interest in learning more about mental health and welln
 ess.
X-WR-RELCALID:400f382ee858e9631049ed70af19294e
X-WR-TIMEZONE:America/Chicago
BEGIN:VTIMEZONE
TZID:America/Chicago
BEGIN:STANDARD
TZNAME:CST
DTSTART:20251102T020000
TZOFFSETFROM:-0500
TZOFFSETTO:-0600
RDATE:20261101T020000
END:STANDARD
BEGIN:DAYLIGHT
TZNAME:CDT
DTSTART:20250309T020000
TZOFFSETFROM:-0600
TZOFFSETTO:-0500
RDATE:20260308T020000
RDATE:20270314T020000
END:DAYLIGHT
END:VTIMEZONE
BEGIN:VEVENT
UID:d720eb48-822e-4930-9009-d1f47f598e9f
DTSTAMP:20260420T152129Z
DESCRIPTION:During this virtual workshop\, you will learn:\n\n- Tips to hel
 p navigate conflict around the holiday table\n- How to prepare yourself be
 fore you go\n- How to disagree with grace\n\nParticipants will explore fou
 ndational information on how to reduce the level of conflict through self-
 knowledge\, understand how past experiences influence current behavior\, a
 nd practice de-escalation.\n\nThis session is free and open to everyone. W
 e appreciate your interest in learning more about mental health and wellne
 ss.
DTSTART;TZID=America/Chicago:20251210T090000
DTEND;TZID=America/Chicago:20251210T103000
LOCATION:Via Zoom
SUMMARY:De-Escalating Conflict During the Holidays | December 10
END:VEVENT
END:VCALENDAR
