BEGIN:VCALENDAR
VERSION:2.0
PRODID:-//communityadvocates.net//NONSGML kigkonsult.se iCalcreator 2.30.10
 //
CALSCALE:GREGORIAN
METHOD:PUBLISH
UID:1dbc5e5b-c29e-499a-ba14-010581534a57
X-WR-CALDESC:Community Advocates' offices will be closed on Thursday\, Nove
 mber 27\, and Friday\, November 28\, to celebrate the Thanksgiving holiday
 . However\, our 24-hour programs will remain open — the Milwaukee Women's 
 Center Emergency Shelter and the Autumn West Safe Haven. If you are experi
 encing a domestic violence issue\, please call our 24/7 Domestic Violence 
 Crisis Line at 414-671-6140. If you need help with your basic needs over t
 he holiday weekend\, please contact IMPACT 211. We will be back in touch o
 n Monday\, December 1.
X-WR-RELCALID:990d08ceed1f060dd673bba24f506060
X-WR-TIMEZONE:America/Chicago
BEGIN:VTIMEZONE
TZID:America/Chicago
BEGIN:STANDARD
TZNAME:CST
DTSTART:20251102T020000
TZOFFSETFROM:-0500
TZOFFSETTO:-0600
RDATE:20261101T020000
END:STANDARD
BEGIN:DAYLIGHT
TZNAME:CDT
DTSTART:20250309T020000
TZOFFSETFROM:-0600
TZOFFSETTO:-0500
RDATE:20260308T020000
RDATE:20270314T020000
END:DAYLIGHT
END:VTIMEZONE
BEGIN:VEVENT
UID:b39d3c3e-c3cc-47cf-8bdf-f88772358ad2
DTSTAMP:20260420T164002Z
DESCRIPTION:Community Advocates' offices will be closed on Thursday\, Novem
 ber 27\, and Friday\, November 28\, to celebrate the Thanksgiving holiday.
  However\, our 24-hour programs will remain open — the Milwaukee Women's C
 enter Emergency Shelter and the Autumn West Safe Haven. If you are experie
 ncing a domestic violence issue\, please call our 24/7 Domestic Violence C
 risis Line at 414-671-6140. If you need help with your basic needs over th
 e holiday weekend\, please contact IMPACT 211. We will be back in touch on
  Monday\, December 1.
DTSTART;TZID=America/Chicago:20251127T050000
DTEND;TZID=America/Chicago:20251128T050001
LOCATION:
SUMMARY:Thanksgiving Holiday
END:VEVENT
END:VCALENDAR
