BEGIN:VCALENDAR
VERSION:2.0
PRODID:-//communityadvocates.net//NONSGML kigkonsult.se iCalcreator 2.30.10
 //
CALSCALE:GREGORIAN
METHOD:PUBLISH
UID:723b6226-ed83-4bd5-84f7-86ebcc0cf0fd
X-WR-CALDESC:Con mucho cariño Escucha tus Emociones les invita al penúltimo
  Círculo de Sanación del año:\n\n<b>Círculo de Sanación con la Respiración
  Consciente Conectada\nViernes\, 14 de Noviembre\, 6:00-8:00pm</b>\nCORE E
 l Centro \n130 W Bruce St #300\, Milwaukee\, WI 53204\n\n¡Evento gratuito\
 , cupo limitado!\n\nÚnese a nosotres para este Círculo de Sanación con Fab
 iola Melgoza\, Angeles Soria\, y Patty Luevano\, practicantes de respiraci
 ón consciente conectada. En esta sesión guiada\, vamos a crear un espacio 
 de confianza\, explorar nuestras emociones auténticas\, y practicar la res
 piración consciente conectada hacía la sanación.\n\n<b>Participantes favor
  de:</b>\n\n- llegar en ropa cómoda\n- traer una cobijita o manta\n- traer
  su botella de agua\n- traer una cosita especial personal para el altar qu
 e se devolverá a la conclusión del evento\n\nPor favor lleguen 10 minutos 
 antes para obtener todos los beneficios de la sesión. Este evento está dis
 eñado para la audiencia adulta y no cuenta con cuidado de niñes. Se sirvir
 án refrigerios saludables.\n\n<b>Complete la registración para reservar su
  espacio en este círculo:</b> https://tinyurl.com/circulonov\n\nEscucha tu
 s Emociones es una iniciativa comunitaria de salud mental que enfatiza la 
 importancia de desestigmatizar las conversaciones y proporcionar conocimie
 nto\, recursos comunitarios y herramientas prácticas para apoyar la salud 
 mental y el bienestar.\n\nEste Círculo de Sanación es gratuito para la com
 unidad gracias al apoyo y financiación de Community Advocates y Better Way
 s to Cope.\n\n¿Preguntas? --> escuchatusemocionesinfo@gmail.com
X-WR-RELCALID:508bd5c27200343de8ceac1fac1cc5e2
X-WR-TIMEZONE:America/Chicago
BEGIN:VTIMEZONE
TZID:America/Chicago
BEGIN:STANDARD
TZNAME:CST
DTSTART:20251102T020000
TZOFFSETFROM:-0500
TZOFFSETTO:-0600
RDATE:20261101T020000
END:STANDARD
BEGIN:DAYLIGHT
TZNAME:CDT
DTSTART:20250309T020000
TZOFFSETFROM:-0600
TZOFFSETTO:-0500
RDATE:20260308T020000
RDATE:20270314T020000
END:DAYLIGHT
END:VTIMEZONE
BEGIN:VEVENT
UID:464dfc07-e1db-445d-a83c-26fbc65352c7
DTSTAMP:20260420T164204Z
DESCRIPTION:Con mucho cariño Escucha tus Emociones les invita al penúltimo 
 Círculo de Sanación del año:\n\n<b>Círculo de Sanación con la Respiración 
 Consciente Conectada\nViernes\, 14 de Noviembre\, 6:00-8:00pm</b>\nCORE El
  Centro \n130 W Bruce St #300\, Milwaukee\, WI 53204\n\n¡Evento gratuito\,
  cupo limitado!\n\nÚnese a nosotres para este Círculo de Sanación con Fabi
 ola Melgoza\, Angeles Soria\, y Patty Luevano\, practicantes de respiració
 n consciente conectada. En esta sesión guiada\, vamos a crear un espacio d
 e confianza\, explorar nuestras emociones auténticas\, y practicar la resp
 iración consciente conectada hacía la sanación.\n\n<b>Participantes favor 
 de:</b>\n\n- llegar en ropa cómoda\n- traer una cobijita o manta\n- traer 
 su botella de agua\n- traer una cosita especial personal para el altar que
  se devolverá a la conclusión del evento\n\nPor favor lleguen 10 minutos a
 ntes para obtener todos los beneficios de la sesión. Este evento está dise
 ñado para la audiencia adulta y no cuenta con cuidado de niñes. Se sirvirá
 n refrigerios saludables.\n\n<b>Complete la registración para reservar su 
 espacio en este círculo:</b> https://tinyurl.com/circulonov\n\nEscucha tus
  Emociones es una iniciativa comunitaria de salud mental que enfatiza la i
 mportancia de desestigmatizar las conversaciones y proporcionar conocimien
 to\, recursos comunitarios y herramientas prácticas para apoyar la salud m
 ental y el bienestar.\n\nEste Círculo de Sanación es gratuito para la comu
 nidad gracias al apoyo y financiación de Community Advocates y Better Ways
  to Cope.\n\n¿Preguntas? --> escuchatusemocionesinfo@gmail.com
DTSTART;TZID=America/Chicago:20251114T180000
DTEND;TZID=America/Chicago:20251114T200000
LOCATION:CORE El Centro\, 130 W. Bruce St. #300\, Milwaukee\, WI 53204 US
SUMMARY:Círculo de Sanación con la Respiración Consciente Conectada
END:VEVENT
END:VCALENDAR
