BEGIN:VCALENDAR
VERSION:2.0
PRODID:-//communityadvocates.net//NONSGML kigkonsult.se iCalcreator 2.30.10
 //
CALSCALE:GREGORIAN
METHOD:PUBLISH
UID:3810bb50-3d7d-4cb2-9735-93891967be5d
X-WR-CALDESC:<b>Wow — with immense gratitude\,  Feed Your Soul 2025 is offi
 cially sold out!</b>\n\nThanks to the incredible support of our community\
 , we’ve reached full capacity and have closed registration. Unfortunately\
 , there will be no additional ticket sales online or at the door. We’re tr
 uly grateful for everyone’s enthusiasm and honored to celebrate alongside 
 a community that believes in the power of art to support and uplift.  We s
 incerely apologize for any inconvenience this may cause. \n\n<b>You can st
 ill join the excitement by bidding virtually and supporting the cause from
  wherever you are.</b> Click on the link below\, go to 'Event Registration
 \,' and sign up as a virtual bidder!\n\nAnd don’t worry — Feed Your Soul 2
 026 will be here before you know it\n\n
X-WR-RELCALID:d0b2098e8d62f2ca772104d46dbef5c6
X-WR-TIMEZONE:America/Chicago
BEGIN:VTIMEZONE
TZID:America/Chicago
BEGIN:STANDARD
TZNAME:CST
DTSTART:20251102T020000
TZOFFSETFROM:-0500
TZOFFSETTO:-0600
RDATE:20261101T020000
END:STANDARD
BEGIN:DAYLIGHT
TZNAME:CDT
DTSTART:20250309T020000
TZOFFSETFROM:-0600
TZOFFSETTO:-0500
RDATE:20260308T020000
RDATE:20270314T020000
END:DAYLIGHT
END:VTIMEZONE
BEGIN:VEVENT
UID:0a633033-7fee-458f-94f6-a1a717204ad0
DTSTAMP:20260420T164657Z
DESCRIPTION:<b>Wow — with immense gratitude\,  Feed Your Soul 2025 is offic
 ially sold out!</b>\n\nThanks to the incredible support of our community\,
  we’ve reached full capacity and have closed registration. Unfortunately\,
  there will be no additional ticket sales online or at the door. We’re tru
 ly grateful for everyone’s enthusiasm and honored to celebrate alongside a
  community that believes in the power of art to support and uplift.  We si
 ncerely apologize for any inconvenience this may cause. \n\n<b>You can sti
 ll join the excitement by bidding virtually and supporting the cause from 
 wherever you are.</b> Click on the link below\, go to 'Event Registration\
 ,' and sign up as a virtual bidder!\n\nAnd don’t worry — Feed Your Soul 20
 26 will be here before you know it\n\n
DTSTART;TZID=America/Chicago:20251107T190000
DTEND;TZID=America/Chicago:20251107T230000
LOCATION:House of RAD\, 324 N. 12th Street\, Milwaukee\, WI 53233 US
SUMMARY:Feed Your Soul - Proceeds Benefitting Community Advocates
END:VEVENT
END:VCALENDAR
