BEGIN:VCALENDAR
VERSION:2.0
PRODID:-//communityadvocates.net//NONSGML kigkonsult.se iCalcreator 2.30.10
 //
CALSCALE:GREGORIAN
METHOD:PUBLISH
UID:81ee1c80-6635-40f4-ae61-4aa640045a77
X-WR-CALDESC:When COVID hit in 2020\, all levels of government stepped in w
 ith help for tenants and landlords who were struggling to pay their bills 
 and stay safe at home. Now that robust rental assistance is fading out\, m
 any Milwaukee tenants are searching for resources to help them in a compet
 itive housing market.\n\nJoin this panel discussion of the evolution of po
 licies and programs for tenants and landlords\, including the launch of th
 e Milwaukee Rental Housing Resource Center\, celebrating its fifth anniver
 sary this summer. This panel is organized by Community Advocates Public Po
 licy Institute and is sponsored by the PPI Member Network.\n\nThis panel d
 iscussion will be held from 3 to 4:30 p.m. on September 18 at Community Ad
 vocates\, Second Floor Community Room\, 728 N. James Lovell St.\, Milwauke
 e. Registration is required.
X-WR-RELCALID:551e607a9a209321ca527128662d48e9
X-WR-TIMEZONE:America/Chicago
BEGIN:VTIMEZONE
TZID:America/Chicago
BEGIN:STANDARD
TZNAME:CST
DTSTART:20241103T020000
TZOFFSETFROM:-0500
TZOFFSETTO:-0600
RDATE:20251102T020000
RDATE:20261101T020000
END:STANDARD
BEGIN:DAYLIGHT
TZNAME:CDT
DTSTART:20250309T020000
TZOFFSETFROM:-0600
TZOFFSETTO:-0500
RDATE:20260308T020000
RDATE:20270314T020000
END:DAYLIGHT
END:VTIMEZONE
BEGIN:VEVENT
UID:a28748c9-e58d-4674-9a23-97bf11301816
DTSTAMP:20260420T192255Z
DESCRIPTION:When COVID hit in 2020\, all levels of government stepped in wi
 th help for tenants and landlords who were struggling to pay their bills a
 nd stay safe at home. Now that robust rental assistance is fading out\, ma
 ny Milwaukee tenants are searching for resources to help them in a competi
 tive housing market.\n\nJoin this panel discussion of the evolution of pol
 icies and programs for tenants and landlords\, including the launch of the
  Milwaukee Rental Housing Resource Center\, celebrating its fifth annivers
 ary this summer. This panel is organized by Community Advocates Public Pol
 icy Institute and is sponsored by the PPI Member Network.\n\nThis panel di
 scussion will be held from 3 to 4:30 p.m. on September 18 at Community Adv
 ocates\, Second Floor Community Room\, 728 N. James Lovell St.\, Milwaukee
 . Registration is required.
DTSTART;TZID=America/Chicago:20250918T150000
DTEND;TZID=America/Chicago:20250918T163000
LOCATION:Community Advocates\, 728 N. James Lovell Street\, Milwaukee\, WI 
 53233 US
SUMMARY:Housing in Milwaukee: What's Changed since 2020?
END:VEVENT
END:VCALENDAR
