BEGIN:VCALENDAR
VERSION:2.0
PRODID:-//communityadvocates.net//NONSGML kigkonsult.se iCalcreator 2.30.10
 //
CALSCALE:GREGORIAN
METHOD:PUBLISH
UID:fac19860-fb6b-45a4-b85e-9a8f6a3c559b
X-WR-CALDESC:The Empowerment Coalition of Milwaukee (ECOM) is a monthly gat
 hering of social services professionals\, advocates\, and consumers organi
 zed by Community Advocates Public Policy Institute. ECOM explores topics t
 hat are vital to Milwaukee’s human services professionals. Each session fe
 atures multiple presentations from experts and opportunities to share reso
 urces. This month’s topic is Energy Assistance.\n\nSessions will be held i
 n person from 9:30 a.m. to 12 noon. The location will be shared with regis
 trants before each session.\n\nFee is $5 for light refreshments and materi
 als and can be paid via credit card. Registrations are not refundable. Kin
 dly make sure to RSVP by the Friday prior to each meeting.\n\nOur 2025 ECO
 M Workshops:\nJanuary 22: Housing\nFebruary 19: Child Abuse and Neglect\, 
 Elder Abuse\, and Medicaid \nMarch 19: Legal Services\nApril 16: W2\, Food
 Share\, FSET\, and SSI\nMay 21: Mental Health\nJune 25: LGBTQ+ Services\nJ
 uly 16: Adoption\, Foster Care\, Prenatal Services\, and Parenting Support
  \nAugust 20: Job Services\, Financial Literacy\, and GED \nSeptember 17: 
 Energy Assistance\nOctober 15: Domestic Violence\nNovember 19: Veterans Se
 rvices and Reentry Services\nDecember 17: Planning Session (No fee for thi
 s session)
X-WR-RELCALID:b8aa23ffef83b46a73e51d8cc32c7b64
X-WR-TIMEZONE:America/Chicago
BEGIN:VTIMEZONE
TZID:America/Chicago
BEGIN:STANDARD
TZNAME:CST
DTSTART:20241103T020000
TZOFFSETFROM:-0500
TZOFFSETTO:-0600
RDATE:20251102T020000
RDATE:20261101T020000
END:STANDARD
BEGIN:DAYLIGHT
TZNAME:CDT
DTSTART:20250309T020000
TZOFFSETFROM:-0600
TZOFFSETTO:-0500
RDATE:20260308T020000
RDATE:20270314T020000
END:DAYLIGHT
END:VTIMEZONE
BEGIN:VEVENT
UID:c028488f-51b7-4c3e-911d-de54990faa73
DTSTAMP:20260420T192614Z
DESCRIPTION:The Empowerment Coalition of Milwaukee (ECOM) is a monthly gath
 ering of social services professionals\, advocates\, and consumers organiz
 ed by Community Advocates Public Policy Institute. ECOM explores topics th
 at are vital to Milwaukee’s human services professionals. Each session fea
 tures multiple presentations from experts and opportunities to share resou
 rces. This month’s topic is Energy Assistance.\n\nSessions will be held in
  person from 9:30 a.m. to 12 noon. The location will be shared with regist
 rants before each session.\n\nFee is $5 for light refreshments and materia
 ls and can be paid via credit card. Registrations are not refundable. Kind
 ly make sure to RSVP by the Friday prior to each meeting.\n\nOur 2025 ECOM
  Workshops:\nJanuary 22: Housing\nFebruary 19: Child Abuse and Neglect\, E
 lder Abuse\, and Medicaid \nMarch 19: Legal Services\nApril 16: W2\, FoodS
 hare\, FSET\, and SSI\nMay 21: Mental Health\nJune 25: LGBTQ+ Services\nJu
 ly 16: Adoption\, Foster Care\, Prenatal Services\, and Parenting Support 
 \nAugust 20: Job Services\, Financial Literacy\, and GED \nSeptember 17: E
 nergy Assistance\nOctober 15: Domestic Violence\nNovember 19: Veterans Ser
 vices and Reentry Services\nDecember 17: Planning Session (No fee for this
  session)
DTSTART;TZID=America/Chicago:20250917T093000
DTEND;TZID=America/Chicago:20250917T120000
LOCATION:Location TBD
SUMMARY:ECOM Workshop: Energy Assistance
END:VEVENT
END:VCALENDAR
