BEGIN:VCALENDAR
VERSION:2.0
PRODID:-//communityadvocates.net//NONSGML kigkonsult.se iCalcreator 2.30.10
 //
CALSCALE:GREGORIAN
METHOD:PUBLISH
UID:6fc9e351-2e4a-46ef-afbd-bac9f82989ad
X-WR-CALDESC:Community Advocates offices will be closed on Monday\, Septemb
 er 1\, to observe Labor Day. However\, our 24/7 programs\, the Milwaukee W
 omen's Center Emergency Shelter and Autumn West Safe Haven\, will remain o
 pen. If you are experiencing a domestic violence situation\, please call o
 ur 24-hour Domestic Violence Crisis Line at 414-671-6140. We will be back 
 in the office on September 2.
X-WR-RELCALID:f0954b4db0cdb4ce5a01b9333b472bbd
X-WR-TIMEZONE:America/Chicago
BEGIN:VTIMEZONE
TZID:America/Chicago
BEGIN:STANDARD
TZNAME:CST
DTSTART:20241103T020000
TZOFFSETFROM:-0500
TZOFFSETTO:-0600
RDATE:20251102T020000
RDATE:20261101T020000
END:STANDARD
BEGIN:DAYLIGHT
TZNAME:CDT
DTSTART:20250309T020000
TZOFFSETFROM:-0600
TZOFFSETTO:-0500
RDATE:20260308T020000
END:DAYLIGHT
END:VTIMEZONE
BEGIN:VEVENT
UID:22d51cf6-f96f-4ad5-8aca-7fef9147b201
DTSTAMP:20260420T192035Z
DESCRIPTION:Community Advocates offices will be closed on Monday\, Septembe
 r 1\, to observe Labor Day. However\, our 24/7 programs\, the Milwaukee Wo
 men's Center Emergency Shelter and Autumn West Safe Haven\, will remain op
 en. If you are experiencing a domestic violence situation\, please call ou
 r 24-hour Domestic Violence Crisis Line at 414-671-6140. We will be back i
 n the office on September 2.
DTSTART;TZID=America/Chicago:20250901T050000
DTEND;TZID=America/Chicago:20250901T050001
LOCATION:
SUMMARY:Labor Day
END:VEVENT
END:VCALENDAR
