BEGIN:VCALENDAR
VERSION:2.0
PRODID:-//communityadvocates.net//NONSGML kigkonsult.se iCalcreator 2.30.10
 //
CALSCALE:GREGORIAN
METHOD:PUBLISH
UID:7be5c27c-f342-4b24-8cba-f062d994537c
X-WR-CALDESC:Join RISE Drug Free MKE as we come together for International 
 Overdose Awareness Day\, a heartfelt gathering aimed at showing love\, sup
 port\, and healing for those affected by the devastating loss of loved one
 s due to substance use\; as well as the survivors of overdose. This event 
 is a space for community solidarity remembrance\, and hope.\n\nThroughout 
 the event\, we will feature inspiring speakers who have bravely navigated 
 their own recovery journeys and those dealing with the loss of loved ones 
 due to substance use. Their stories provide insight and encouragement\, hi
 ghlighting the power of resilience and the importance of support in overco
 ming adversity.\n\nA special Dedication Station will be available\, allowi
 ng attendees to honor and remember those who have been lost to overdose. P
 articipants can create a symbol of love and remembrance\, creating a power
 ful visual tribute in our community.\n\nAs we conclude the event\, we will
  hold a Candle Memorial Vigil\, providing a serene atmosphere for reflecti
 on and commemoration. This moment will allow us to gather in unity\, light
 ing candles in honor of those we've lost\, fostering a sense of hope and h
 ealing as we stand together.\n\nWe invite everyone to join us in this impo
 rtant event to raise awareness\, share stories\, and support each other in
  our collective journey toward healing. Together\, we can create a compass
 ionate environment that honors the lives of those lost and promotes a futu
 re filled with hope.\n\nPlease mark your calendars\, and feel free to reac
 h out if you have any questions or suggestions regarding these events. You
 r input is invaluable\, and we look forward to collaborating closely with 
 all of you.
X-WR-RELCALID:2f68c1ed8c5a6551ccfed49d66b13bff
X-WR-TIMEZONE:America/Chicago
BEGIN:VTIMEZONE
TZID:America/Chicago
BEGIN:STANDARD
TZNAME:CST
DTSTART:20241103T020000
TZOFFSETFROM:-0500
TZOFFSETTO:-0600
RDATE:20251102T020000
RDATE:20261101T020000
END:STANDARD
BEGIN:DAYLIGHT
TZNAME:CDT
DTSTART:20250309T020000
TZOFFSETFROM:-0600
TZOFFSETTO:-0500
RDATE:20260308T020000
END:DAYLIGHT
END:VTIMEZONE
BEGIN:VEVENT
UID:0935de81-c3b5-4964-8f1c-743340337ba3
DTSTAMP:20260420T205018Z
DESCRIPTION:Join RISE Drug Free MKE as we come together for International O
 verdose Awareness Day\, a heartfelt gathering aimed at showing love\, supp
 ort\, and healing for those affected by the devastating loss of loved ones
  due to substance use\; as well as the survivors of overdose. This event i
 s a space for community solidarity remembrance\, and hope.\n\nThroughout t
 he event\, we will feature inspiring speakers who have bravely navigated t
 heir own recovery journeys and those dealing with the loss of loved ones d
 ue to substance use. Their stories provide insight and encouragement\, hig
 hlighting the power of resilience and the importance of support in overcom
 ing adversity.\n\nA special Dedication Station will be available\, allowin
 g attendees to honor and remember those who have been lost to overdose. Pa
 rticipants can create a symbol of love and remembrance\, creating a powerf
 ul visual tribute in our community.\n\nAs we conclude the event\, we will 
 hold a Candle Memorial Vigil\, providing a serene atmosphere for reflectio
 n and commemoration. This moment will allow us to gather in unity\, lighti
 ng candles in honor of those we've lost\, fostering a sense of hope and he
 aling as we stand together.\n\nWe invite everyone to join us in this impor
 tant event to raise awareness\, share stories\, and support each other in 
 our collective journey toward healing. Together\, we can create a compassi
 onate environment that honors the lives of those lost and promotes a futur
 e filled with hope.\n\nPlease mark your calendars\, and feel free to reach
  out if you have any questions or suggestions regarding these events. Your
  input is invaluable\, and we look forward to collaborating closely with a
 ll of you.
DTSTART;TZID=America/Chicago:20250831T170000
DTEND;TZID=America/Chicago:20250831T193000
LOCATION:Washington Park\, 1859 N. 40th Street\, Milwaukee\, WI 53208 US
SUMMARY:International Overdose Awareness Day Memorial Event - 'Driven by Ho
 pe'
END:VEVENT
END:VCALENDAR
