BEGIN:VCALENDAR
VERSION:2.0
PRODID:-//communityadvocates.net//NONSGML kigkonsult.se iCalcreator 2.30.10
 //
CALSCALE:GREGORIAN
METHOD:PUBLISH
UID:ae73c3af-a5b0-4874-8a3b-f97d25a10145
X-WR-CALDESC:In honor of International Overdose Awareness Day\, we are exci
 ted to host 'Healing Together\, Driven by Hope' - a community-focused even
 t dedicated to promoting healing and supporting those who are grieving. Th
 is gathering aims to create a safe and nurturing space for individuals and
  families affected by overdose\, as well as those seeking to understand an
 d cope with their grief. The event will feature a variety of stations\, ea
 ch providing unique activities designed to foster healing and reflection. 
 Attendees will have the opportunity to engage in:\n\nPoetry Station: A spa
 ce for expressing emotions through writing and reading heartfelt poetry.\n
 \nTypewriting Station: Participants can share their thoughts and feelings 
 in a nostalgic way\, using vintage typewriters.\n\nYoga: Gentle yoga sessi
 ons focusing on mindfulness and relaxation\, helping participants reconnec
 t with their bodies and breath.\n\nPicture Printing Station: A creative ar
 ea where attendees can capture and print memories of loved ones\, encourag
 ing reflection and remembrance.\n\nLibrary Pop-Up: A selection of books de
 dicated to grief support and coping strategies\, offering valuable resourc
 es for those in need.\n\nAffirmation Memorial Rock Station: Participants c
 an paint rocks with affirmations and messages of hope\, leaving a lasting 
 tribute to honor those we've lost.\n\nResource and Support Tabling: A vari
 ety of community partners from around Milwaukee County will provide inform
 ation and education on prevention and harm reduction for friends and famil
 y in attendance.\n\nWe invite our community partners to join us in this me
 aningful event! There are still opportunities available for organizations 
 to sign up and lead an activity or workshop. We encourage you to bring a t
 able where you can display your resources and outreach information\, helpi
 ng to connect attendees with additional support and guidance. Together\, w
 e can create an environment of understanding\, kindness\, and hope in reme
 mbrance of those we have lost. We hope to see you there!
X-WR-RELCALID:f913e390f6da53c02c36fed7dffe5c5d
X-WR-TIMEZONE:America/Chicago
BEGIN:VTIMEZONE
TZID:America/Chicago
BEGIN:STANDARD
TZNAME:CST
DTSTART:20241103T020000
TZOFFSETFROM:-0500
TZOFFSETTO:-0600
RDATE:20251102T020000
RDATE:20261101T020000
END:STANDARD
BEGIN:DAYLIGHT
TZNAME:CDT
DTSTART:20250309T020000
TZOFFSETFROM:-0600
TZOFFSETTO:-0500
RDATE:20260308T020000
END:DAYLIGHT
END:VTIMEZONE
BEGIN:VEVENT
UID:6c05ff40-c693-4e12-ba0d-8386a9e64f4f
DTSTAMP:20260420T205156Z
DESCRIPTION:In honor of International Overdose Awareness Day\, we are excit
 ed to host 'Healing Together\, Driven by Hope' - a community-focused event
  dedicated to promoting healing and supporting those who are grieving. Thi
 s gathering aims to create a safe and nurturing space for individuals and 
 families affected by overdose\, as well as those seeking to understand and
  cope with their grief. The event will feature a variety of stations\, eac
 h providing unique activities designed to foster healing and reflection. A
 ttendees will have the opportunity to engage in:\n\nPoetry Station: A spac
 e for expressing emotions through writing and reading heartfelt poetry.\n
 \nTypewriting Station: Participants can share their thoughts and feelings 
 in a nostalgic way\, using vintage typewriters.\n\nYoga: Gentle yoga sessi
 ons focusing on mindfulness and relaxation\, helping participants reconnec
 t with their bodies and breath.\n\nPicture Printing Station: A creative ar
 ea where attendees can capture and print memories of loved ones\, encourag
 ing reflection and remembrance.\n\nLibrary Pop-Up: A selection of books de
 dicated to grief support and coping strategies\, offering valuable resourc
 es for those in need.\n\nAffirmation Memorial Rock Station: Participants c
 an paint rocks with affirmations and messages of hope\, leaving a lasting 
 tribute to honor those we've lost.\n\nResource and Support Tabling: A vari
 ety of community partners from around Milwaukee County will provide inform
 ation and education on prevention and harm reduction for friends and famil
 y in attendance.\n\nWe invite our community partners to join us in this me
 aningful event! There are still opportunities available for organizations 
 to sign up and lead an activity or workshop. We encourage you to bring a t
 able where you can display your resources and outreach information\, helpi
 ng to connect attendees with additional support and guidance. Together\, w
 e can create an environment of understanding\, kindness\, and hope in reme
 mbrance of those we have lost. We hope to see you there!
DTSTART;TZID=America/Chicago:20250829T170000
DTEND;TZID=America/Chicago:20250829T210000
LOCATION:Mitchell Park\, 524 S. Layton Boulevard\, Milwaukee\, WI 53204 US
SUMMARY:Healing Together\, Driven by Hope
END:VEVENT
END:VCALENDAR
