BEGIN:VCALENDAR
VERSION:2.0
PRODID:-//communityadvocates.net//NONSGML kigkonsult.se iCalcreator 2.30.10
 //
CALSCALE:GREGORIAN
METHOD:PUBLISH
UID:815a9cab-f008-460b-bafd-a53c6066c7d9
X-WR-CALDESC:Please Note: The Adult Mental Health First Aid course consists
  of two hours of self-paced content followed by six hours of instructor-le
 d training. The self-paced computer training must be completed at least th
 ree days prior to the beginning of the course and the one-hour self-paced 
 post session computer training must be completed as well in order for atte
 ndees to obtain certification. \n\nMental Health First Aid teaches you how
  to identify\, understand and respond to signs of mental illness and subst
 ance use disorders. This training gives you the skills you need to reach o
 ut and provide initial support to someone who may be developing a mental h
 ealth or substance use problem and help connect them to the appropriate ca
 re.\n\nWhat the Mental Health First Aid Course offers:\nâ€¢ Common signs and
  symptoms of mental illness\nâ€¢ Common signs and symptoms of substance use
 \nânâ How to interact with a person in crisis\nâ€¢ How to connect the person w
 ith help\nâ€¢ Content on trauma\, addiction\, and self-care\n\nThe course wi
 ll teach you how to apply the ALGEE action plan:\nâ€¢ Assess for risk of sui
 cide or harm.\nâ€¢ Listen nonjudgmentally.\nâ€¢ Give reassurance and informati
 on.\nâ€¢ Encourage appropriate professional help.\nâ€¢ Encourage self-help and
  other support strategies.\n\nThis session is free and open to everyone. W
 e appreciate your interest in learning more about mental health and wellne
 ss.
X-WR-RELCALID:de5a99947f8d37d425fe88b48ca42be2
X-WR-TIMEZONE:America/Chicago
BEGIN:VTIMEZONE
TZID:America/Chicago
BEGIN:STANDARD
TZNAME:CST
DTSTART:20241103T020000
TZOFFSETFROM:-0500
TZOFFSETTO:-0600
RDATE:20251102T020000
RDATE:20261101T020000
END:STANDARD
BEGIN:DAYLIGHT
TZNAME:CDT
DTSTART:20250309T020000
TZOFFSETFROM:-0600
TZOFFSETTO:-0500
RDATE:20260308T020000
END:DAYLIGHT
END:VTIMEZONE
BEGIN:VEVENT
UID:b2ead3bb-57b6-4083-a1fc-4840b2a333b5
DTSTAMP:20260420T205659Z
DESCRIPTION:Please Note: The Adult Mental Health First Aid course consists 
 of two hours of self-paced content followed by six hours of instructor-led
  training. The self-paced computer training must be completed at least thr
 ee days prior to the beginning of the course and the one-hour self-paced p
 ost session computer training must be completed as well in order for atten
 dees to obtain certification. \n\nMental Health First Aid teaches you how 
 to identify\, understand and respond to signs of mental illness and substa
 nce use disorders. This training gives you the skills you need to reach ou
 t and provide initial support to someone who may be developing a mental he
 alth or substance use problem and help connect them to the appropriate car
 e.\n\nWhat the Mental Health First Aid Course offers:\nâ€¢ Common signs and 
 symptoms of mental illness\nâ€¢ Common signs and symptoms of substance use\n
 â€¢ How to interact with a person in crisis\nâ€¢ How to connect the person wit
 h help\nâ€¢ Content on trauma\, addiction\, and self-care\n\nThe course will
  teach you how to apply the ALGEE action plan:\nâ€¢ Assess for risk of suici
 de or harm.\nâ€¢ Listen nonjudgmentally.\nâ€¢ Give reassurance and information
 .\nâ€¢ Encourage appropriate professional help.\nâ€¢ Encourage self-help and o
 ther support strategies.\n\nThis session is free and open to everyone. We 
 appreciate your interest in learning more about mental health and wellness
 .
DTSTART;TZID=America/Chicago:20250826T090000
DTEND;TZID=America/Chicago:20250826T151500
LOCATION:Via Zoom
SUMMARY:Adult Mental Health First Aid | August 26
END:VEVENT
END:VCALENDAR
