BEGIN:VCALENDAR
VERSION:2.0
PRODID:-//communityadvocates.net//NONSGML kigkonsult.se iCalcreator 2.30.10
 //
CALSCALE:GREGORIAN
METHOD:PUBLISH
UID:ea3b3e19-16e8-4cf3-be08-4091410cecac
X-WR-CALDESC:Join the Wauwatosa Health Department to raise awareness\, redu
 ce stigma\, and remember lives lost to overdose.\n\nWhether you have been 
 personally affected by overdose or simply want to support your community\,
  your presence promotes healing and hope.\n\nThe event will include free t
 -shirts\, ice cream\, speakers\, and a short remembrance walk.
X-WR-RELCALID:0a75bc0463c3329edffb5f4a42ad2585
X-WR-TIMEZONE:America/Chicago
BEGIN:VTIMEZONE
TZID:America/Chicago
BEGIN:STANDARD
TZNAME:CST
DTSTART:20241103T020000
TZOFFSETFROM:-0500
TZOFFSETTO:-0600
RDATE:20251102T020000
RDATE:20261101T020000
END:STANDARD
BEGIN:DAYLIGHT
TZNAME:CDT
DTSTART:20250309T020000
TZOFFSETFROM:-0600
TZOFFSETTO:-0500
RDATE:20260308T020000
END:DAYLIGHT
END:VTIMEZONE
BEGIN:VEVENT
UID:144f9094-ab1e-48c4-b42a-9f2cb097b048
DTSTAMP:20260420T205704Z
DESCRIPTION:Join the Wauwatosa Health Department to raise awareness\, reduc
 e stigma\, and remember lives lost to overdose.\n\nWhether you have been p
 ersonally affected by overdose or simply want to support your community\, 
 your presence promotes healing and hope.\n\nThe event will include free t-
 shirts\, ice cream\, speakers\, and a short remembrance walk.
DTSTART;TZID=America/Chicago:20250823T120000
DTEND;TZID=America/Chicago:20250823T140000
LOCATION:Hart Park - Volleyball Courts\, 7300 W. Chestnut Street\, Wauwatos
 a\, WI 53213 US
SUMMARY:Wauwatosa Overdose Awareness Event
END:VEVENT
END:VCALENDAR
