BEGIN:VCALENDAR
VERSION:2.0
PRODID:-//communityadvocates.net//NONSGML kigkonsult.se iCalcreator 2.30.10
 //
CALSCALE:GREGORIAN
METHOD:PUBLISH
UID:8df08ec1-e6d4-428b-8396-05d081404bd5
X-WR-CALDESC:The Empowerment Coalition of Milwaukee (ECOM) is a monthly gat
 hering of social services professionals\, advocates\, and consumers organi
 zed by Community Advocates Public Policy Institute. ECOM explores topics t
 hat are vital to Milwaukee’s human services professionals. Each session fe
 atures multiple presentations from experts and opportunities to share reso
 urces. This month’s topic is Job Services\, Financial Literacy\, and GED.
 \n\nSessions will be held in person from 9:30 a.m. to 12 noon. The locatio
 n will be shared with registrants before each session.\n\nFee is $5 for li
 ght refreshments and materials and can be paid via credit card. Registrati
 ons are not refundable. Kindly make sure to RSVP by the Friday prior to ea
 ch meeting.\n\nOur 2025 ECOM Workshops:\nJanuary 22: Housing\nFebruary 19:
  Child Abuse and Neglect\, Elder Abuse\, and Medicaid \nMarch 19: Legal Se
 rvices\nApril 16: W2\, FoodShare\, FSET\, and SSI\nMay 21: Mental Health\n
 June 25: LGBTQ+ Services\nJuly 16: Adoption\, Foster Care\, Prenatal Servi
 ces\, and Parenting Support \nAugust 20: Job Services\, Financial Literacy
 \, and GED \nSeptember 17: Energy Assistance\nOctober 15: Domestic Violenc
 e\nNovember 19: Veterans Services and Reentry Services\nDecember 17: Plann
 ing Session (No fee for this session)
X-WR-RELCALID:56187f4b00b75c9b32d1c098ef099075
X-WR-TIMEZONE:America/Chicago
BEGIN:VTIMEZONE
TZID:America/Chicago
BEGIN:STANDARD
TZNAME:CST
DTSTART:20241103T020000
TZOFFSETFROM:-0500
TZOFFSETTO:-0600
RDATE:20251102T020000
RDATE:20261101T020000
END:STANDARD
BEGIN:DAYLIGHT
TZNAME:CDT
DTSTART:20250309T020000
TZOFFSETFROM:-0600
TZOFFSETTO:-0500
RDATE:20260308T020000
END:DAYLIGHT
END:VTIMEZONE
BEGIN:VEVENT
UID:4b37f34d-42f0-4297-aa7c-2433a404516d
DTSTAMP:20260420T205731Z
DESCRIPTION:The Empowerment Coalition of Milwaukee (ECOM) is a monthly gath
 ering of social services professionals\, advocates\, and consumers organiz
 ed by Community Advocates Public Policy Institute. ECOM explores topics th
 at are vital to Milwaukee’s human services professionals. Each session fea
 tures multiple presentations from experts and opportunities to share resou
 rces. This month’s topic is Job Services\, Financial Literacy\, and GED.\n
 \nSessions will be held in person from 9:30 a.m. to 12 noon. The location 
 will be shared with registrants before each session.\n\nFee is $5 for ligh
 t refreshments and materials and can be paid via credit card. Registration
 s are not refundable. Kindly make sure to RSVP by the Friday prior to each
  meeting.\n\nOur 2025 ECOM Workshops:\nJanuary 22: Housing\nFebruary 19: C
 hild Abuse and Neglect\, Elder Abuse\, and Medicaid \nMarch 19: Legal Serv
 ices\nApril 16: W2\, FoodShare\, FSET\, and SSI\nMay 21: Mental Health\nJu
 ne 25: LGBTQ+ Services\nJuly 16: Adoption\, Foster Care\, Prenatal Service
 s\, and Parenting Support \nAugust 20: Job Services\, Financial Literacy\,
  and GED \nSeptember 17: Energy Assistance\nOctober 15: Domestic Violence
 \nNovember 19: Veterans Services and Reentry Services\nDecember 17: Planni
 ng Session (No fee for this session)
DTSTART;TZID=America/Chicago:20250820T093000
DTEND;TZID=America/Chicago:20250820T120000
LOCATION:Location TBD
SUMMARY:ECOM Workshop: Job Services\, Financial Literacy\, and GED
END:VEVENT
END:VCALENDAR
