BEGIN:VCALENDAR
VERSION:2.0
PRODID:-//communityadvocates.net//NONSGML kigkonsult.se iCalcreator 2.30.10
 //
CALSCALE:GREGORIAN
METHOD:PUBLISH
UID:f1558578-06f1-4bd0-899f-dc857373914c
X-WR-CALDESC:Con mucha buena energía Escucha tus Emociones les invita al si
 guiente Círculo de Sanación:\n\n<b>Círculo de Sanación con la Medicina del
  Cacao\nFriday\, 8 de Agosto\, 6:00-8:30pm\nKosciuszko Community Center\n2
 201 S 7th St\, Milwaukee\, WI 53215</b>\n\n¡Evento gratuito\, cupo limitad
 o!\nEvento realizado en español\n\nEste círculo es único porque es el terc
 er y último evento en la serie\, 'Cultura mexicana para todes: Conecta con
  la cultura ancestral\,' una colaboración entre Escucha tus Emociones y Om
 etochtli Mexican Folk Dance.\n\nVenga y únase a la directora clínica de Es
 cucha tus Emociones\, psicóloga y practicante de medicina ancestral Ana Pa
 ula Soares\, quien compartirá la medicina del cacao junto con el equipo de
  Danza Folclórica Mexica Ometochtli.\n\n<b>La bebida de cacao</b> ha sido 
 considerada una medicina sagrada por muchas culturas ancestrales\, en part
 icular las civilizaciones mesoamericanas y amazónicas. Además de su import
 ancia cultural y ritual\, el cacao también ha despertado el interés de la 
 ciencia por sus beneficios para la salud física y emocional. En este event
 o gratuito habrá la oportunidad de estar en comunidad\, compartir\, aprend
 er y sanar.\n\n<b>Por favor lleguen 10 minutos antes para obtener todos lo
 s beneficios de la sesión.</b> Este evento está diseñado para la audiencia
  adulta y no cuenta con cuidado de niñes. Se sirvirán refrigerios saludabl
 es.\n\n<b>Complete la registración para garantizar su espacio en este círc
 ulo.</b>\n\n<i>Escucha tus Emociones es una iniciativa comunitaria de salu
 d mental que enfatiza la importancia de desestigmatizar las conversaciones
  y proporcionar conocimiento\, recursos comunitarios y herramientas prácti
 cas para apoyar la salud mental y el bienestar.</i>\n\nEste Círculo de San
 ación es gratuito para la comunidad gracias al apoyo y financiación de Com
 munity Advocates y Better Ways to Cope.\n\n
X-WR-RELCALID:6f5d68a80d9dd3bd832d47c0e7f55a7d
X-WR-TIMEZONE:America/Chicago
BEGIN:VTIMEZONE
TZID:America/Chicago
BEGIN:STANDARD
TZNAME:CST
DTSTART:20241103T020000
TZOFFSETFROM:-0500
TZOFFSETTO:-0600
RDATE:20251102T020000
RDATE:20261101T020000
END:STANDARD
BEGIN:DAYLIGHT
TZNAME:CDT
DTSTART:20250309T020000
TZOFFSETFROM:-0600
TZOFFSETTO:-0500
RDATE:20260308T020000
END:DAYLIGHT
END:VTIMEZONE
BEGIN:VEVENT
UID:68db2df0-02ac-43f5-8fc1-7494a4efbb4a
DTSTAMP:20260420T204901Z
DESCRIPTION:Con mucha buena energía Escucha tus Emociones les invita al sig
 uiente Círculo de Sanación:\n\n<b>Círculo de Sanación con la Medicina del 
 Cacao\nFriday\, 8 de Agosto\, 6:00-8:30pm\nKosciuszko Community Center\n22
 01 S 7th St\, Milwaukee\, WI 53215</b>\n\n¡Evento gratuito\, cupo limitado
 !\nEvento realizado en español\n\nEste círculo es único porque es el terce
 r y último evento en la serie\, 'Cultura mexicana para todes: Conecta con 
 la cultura ancestral\,' una colaboración entre Escucha tus Emociones y Ome
 tochtli Mexican Folk Dance.\n\nVenga y únase a la directora clínica de Esc
 ucha tus Emociones\, psicóloga y practicante de medicina ancestral Ana Pau
 la Soares\, quien compartirá la medicina del cacao junto con el equipo de 
 Danza Folclórica Mexica Ometochtli.\n\n<b>La bebida de cacao</b> ha sido c
 onsiderada una medicina sagrada por muchas culturas ancestrales\, en parti
 cular las civilizaciones mesoamericanas y amazónicas. Además de su importa
 ncia cultural y ritual\, el cacao también ha despertado el interés de la c
 iencia por sus beneficios para la salud física y emocional. En este evento
  gratuito habrá la oportunidad de estar en comunidad\, compartir\, aprende
 r y sanar.\n\n<b>Por favor lleguen 10 minutos antes para obtener todos los
  beneficios de la sesión.</b> Este evento está diseñado para la audiencia 
 adulta y no cuenta con cuidado de niñes. Se sirvirán refrigerios saludable
 s.\n\n<b>Complete la registración para garantizar su espacio en este círcu
 lo.</b>\n\n<i>Escucha tus Emociones es una iniciativa comunitaria de salud
  mental que enfatiza la importancia de desestigmatizar las conversaciones 
 y proporcionar conocimiento\, recursos comunitarios y herramientas práctic
 as para apoyar la salud mental y el bienestar.</i>\n\nEste Círculo de Sana
 ción es gratuito para la comunidad gracias al apoyo y financiación de Comm
 unity Advocates y Better Ways to Cope.\n\n
DTSTART;TZID=America/Chicago:20250808T180000
DTEND;TZID=America/Chicago:20250808T203000
LOCATION:Kosciuszko Community Center\, 2201 S. 7th St.\, Milwaukee\, AL 532
 15 US
SUMMARY:Círculo de Sanación con la Medicina del Cacao
END:VEVENT
END:VCALENDAR
