BEGIN:VCALENDAR
VERSION:2.0
PRODID:-//communityadvocates.net//NONSGML kigkonsult.se iCalcreator 2.30.10
 //
CALSCALE:GREGORIAN
METHOD:PUBLISH
UID:445e914a-9e8f-49d2-b6e7-6bd012e4760a
X-WR-CALDESC:Con mucho cariño Escucha tus Emociones les invita al siguiente
  Círculo de Sanación:\n\n<b>Círculo de Sanación: Sesión Grupal de Respirac
 ión Consciente Conectada</b>\ncon Angeles\, Fabiola\, y Patty\nTuesday\, 2
 9 de Julio\, 6:30-8:30pm\n8 Branches\n3405 S Kinnickinnic Ave\, Milwaukee\
 , WI 53207\n\n¡Evento gratuito\, cupo limitado!\nEvento realizado en españ
 ol\n\nEscucha tus Emociones les invita a este evento de sanación emocional
  con las facilitadoras de respiración consciente conectada\, Angeles\, Fab
 iola\, y Patty. En esta sesión guiada\, vamos a crear un espacio de confia
 nza\, explorar nuestras emociones auténticas\, y practicar la respiración 
 consciente conectada hacía la sanación. \n\n<b>Por favor lleguen 10 minuto
 s antes para obtener todos los beneficios de la sesión.</b> Este evento es
 tá diseñado para la audiencia adulta y no cuenta con cuidado de niñes. Se 
 sirvirán refrigerios saludables.\n\n<b>¿Qué debo traer?</b>\n\n- Ropa cómo
 da\n- Una manta\n- Una cosita especial personal para el altar que se devol
 verá a la conclusión del evento\n- Una voluntad de explorar sus emociones 
 auténticas y conectarse con su misme y otras personas\n\n<b>Inscríbase par
 a garantizar su espacio en este círculo.</b>\n\nEscucha tus Emociones es u
 na iniciativa comunitaria de salud mental que enfatiza la importancia de d
 esestigmatizar las conversaciones y proporcionar conocimiento\, recursos c
 omunitarios y herramientas prácticas para apoyar la salud mental y el bien
 estar.\n\nEste Círculo de Sanación es gratuito para la comunidad gracias a
 l apoyo y financiación de Community Advocates y Better Ways to Cope.\n\n¿P
 reguntas? --> escuchatusemocionesinfo@gmail.com
X-WR-RELCALID:e26df08bb0bd752ca54d344983fb1486
X-WR-TIMEZONE:America/Chicago
BEGIN:VTIMEZONE
TZID:America/Chicago
BEGIN:STANDARD
TZNAME:CST
DTSTART:20241103T020000
TZOFFSETFROM:-0500
TZOFFSETTO:-0600
RDATE:20251102T020000
RDATE:20261101T020000
END:STANDARD
BEGIN:DAYLIGHT
TZNAME:CDT
DTSTART:20250309T020000
TZOFFSETFROM:-0600
TZOFFSETTO:-0500
RDATE:20260308T020000
END:DAYLIGHT
END:VTIMEZONE
BEGIN:VEVENT
UID:e5f383b2-dec1-41bf-a3b5-2fdb9292390a
DTSTAMP:20260420T222139Z
DESCRIPTION:Con mucho cariño Escucha tus Emociones les invita al siguiente 
 Círculo de Sanación:\n\n<b>Círculo de Sanación: Sesión Grupal de Respiraci
 ón Consciente Conectada</b>\ncon Angeles\, Fabiola\, y Patty\nTuesday\, 29
  de Julio\, 6:30-8:30pm\n8 Branches\n3405 S Kinnickinnic Ave\, Milwaukee\,
  WI 53207\n\n¡Evento gratuito\, cupo limitado!\nEvento realizado en españo
 l\n\nEscucha tus Emociones les invita a este evento de sanación emocional 
 con las facilitadoras de respiración consciente conectada\, Angeles\, Fabi
 ola\, y Patty. En esta sesión guiada\, vamos a crear un espacio de confian
 za\, explorar nuestras emociones auténticas\, y practicar la respiración c
 onsciente conectada hacía la sanación. \n\n<b>Por favor lleguen 10 minutos
  antes para obtener todos los beneficios de la sesión.</b> Este evento est
 á diseñado para la audiencia adulta y no cuenta con cuidado de niñes. Se s
 irvirán refrigerios saludables.\n\n<b>¿Qué debo traer?</b>\n\n- Ropa cómod
 a\n- Una manta\n- Una cosita especial personal para el altar que se devolv
 erá a la conclusión del evento\n- Una voluntad de explorar sus emociones a
 uténticas y conectarse con su misme y otras personas\n\n<b>Inscríbase para
  garantizar su espacio en este círculo.</b>\n\nEscucha tus Emociones es un
 a iniciativa comunitaria de salud mental que enfatiza la importancia de de
 sestigmatizar las conversaciones y proporcionar conocimiento\, recursos co
 munitarios y herramientas prácticas para apoyar la salud mental y el biene
 star.\n\nEste Círculo de Sanación es gratuito para la comunidad gracias al
  apoyo y financiación de Community Advocates y Better Ways to Cope.\n\n¿Pr
 eguntas? --> escuchatusemocionesinfo@gmail.com
DTSTART;TZID=America/Chicago:20250729T183000
DTEND;TZID=America/Chicago:20250729T203000
LOCATION:8 Branches\, 3405 S Kinnickinnic Ave\, Milwaukee\, WI 53207 US
SUMMARY:Círculo de Sanación: Sesión Grupal de Respiración Consciente Conect
 ada 
END:VEVENT
END:VCALENDAR
