BEGIN:VCALENDAR
VERSION:2.0
PRODID:-//communityadvocates.net//NONSGML kigkonsult.se iCalcreator 2.30.10
 //
CALSCALE:GREGORIAN
METHOD:PUBLISH
UID:6bfcbdc4-bad1-4461-9e29-5bf168e1256d
X-WR-CALDESC:The Empowerment Coalition of Milwaukee (ECOM) is a monthly gat
 hering of social services professionals\, advocates\, and consumers organi
 zed by Community Advocates Public Policy Institute. ECOM explores topics t
 hat are vital to Milwaukee’s human services professionals. Each session fe
 atures multiple presentations from experts and opportunities to share reso
 urces. This month’s topic is Adoption\, Foster Care\, Prenatal Services\, 
 and Parenting Support.\n\nSessions will be held in person from 9:30 a.m. t
 o 12 noon. The location will be shared with registrants before each sessio
 n.\n\nFee is $5 for light refreshments and materials and can be paid via c
 redit card. Registrations are not refundable. Kindly make sure to RSVP by 
 the Friday prior to each meeting.\n\nOur 2025 ECOM Workshops:\nJanuary 22:
  Housing\nFebruary 19: Child Abuse and Neglect\, Elder Abuse\, and Medicai
 d \nMarch 19: Legal Services\nApril 16: W2\, FoodShare\, FSET\, and SSI\nM
 ay 21: Mental Health\nJune 25: LGBTQ+ Services\nJuly 16: Adoption\, Foster
  Care\, Prenatal Services\, and Parenting Support \nAugust 20: Job Service
 s\, Financial Literacy\, and GED \nSeptember 17: Energy Assistance\nOctobe
 r 15: Domestic Violence\nNovember 19: Veterans Services and Reentry Servic
 es\nDecember 17: Planning Session (No fee for this session)
X-WR-RELCALID:4eef08ac844d399f390e916b16f9fe59
X-WR-TIMEZONE:America/Chicago
BEGIN:VTIMEZONE
TZID:America/Chicago
BEGIN:STANDARD
TZNAME:CST
DTSTART:20241103T020000
TZOFFSETFROM:-0500
TZOFFSETTO:-0600
RDATE:20251102T020000
RDATE:20261101T020000
END:STANDARD
BEGIN:DAYLIGHT
TZNAME:CDT
DTSTART:20250309T020000
TZOFFSETFROM:-0600
TZOFFSETTO:-0500
RDATE:20260308T020000
END:DAYLIGHT
END:VTIMEZONE
BEGIN:VEVENT
UID:ef3a6192-9dec-4b06-aead-e703fbd0d925
DTSTAMP:20260420T221330Z
DESCRIPTION:The Empowerment Coalition of Milwaukee (ECOM) is a monthly gath
 ering of social services professionals\, advocates\, and consumers organiz
 ed by Community Advocates Public Policy Institute. ECOM explores topics th
 at are vital to Milwaukee’s human services professionals. Each session fea
 tures multiple presentations from experts and opportunities to share resou
 rces. This month’s topic is Adoption\, Foster Care\, Prenatal Services\, a
 nd Parenting Support.\n\nSessions will be held in person from 9:30 a.m. to
  12 noon. The location will be shared with registrants before each session
 .\n\nFee is $5 for light refreshments and materials and can be paid via cr
 edit card. Registrations are not refundable. Kindly make sure to RSVP by t
 he Friday prior to each meeting.\n\nOur 2025 ECOM Workshops:\nJanuary 22: 
 Housing\nFebruary 19: Child Abuse and Neglect\, Elder Abuse\, and Medicaid
  \nMarch 19: Legal Services\nApril 16: W2\, FoodShare\, FSET\, and SSI\nMa
 y 21: Mental Health\nJune 25: LGBTQ+ Services\nJuly 16: Adoption\, Foster 
 Care\, Prenatal Services\, and Parenting Support \nAugust 20: Job Services
 \, Financial Literacy\, and GED \nSeptember 17: Energy Assistance\nOctober
  15: Domestic Violence\nNovember 19: Veterans Services and Reentry Service
 s\nDecember 17: Planning Session (No fee for this session)
DTSTART;TZID=America/Chicago:20250716T093000
DTEND;TZID=America/Chicago:20250716T120000
LOCATION:Location TBD
SUMMARY:ECOM Workshop: Adoption\, Foster Care\, Prenatal Services\, and Par
 enting Support
END:VEVENT
END:VCALENDAR
