BEGIN:VCALENDAR
VERSION:2.0
PRODID:-//communityadvocates.net//NONSGML kigkonsult.se iCalcreator 2.30.10
 //
CALSCALE:GREGORIAN
METHOD:PUBLISH
UID:cf471222-5ed6-4d00-a305-a5a2d504026f
X-WR-CALDESC:<center><b>Please join us July 10 for an inspiring evening as 
 we celebrate the Milwaukee Women’s Center’s 45-year legacy of safety\, hop
 e and healing.</b></center>\n\n<u>Hosts</u>: Direct Supply & Community Adv
 ocates Inc.\n\n<u>Milwaukee Women’s Center 45th Anniversary Co-Chairs</u>:
  Kate Venne & Sandy Samse\n\n<u>Presenting Co-Sponsors</u>: Foley & Lardne
 r LLP & The House Family Foundation\n\n<u>Emcee</u>: Alexandria Mack\n\n<b
 >Event Highlights</b>\n4:30 p.m.: Social Hour\n5:30 p.m.: Program & ”Raise
  Hope” Fund-A-Need Live Appeal\n\nThis special evening will feature a vibr
 ant social hour with entertainment\, handcrafted cocktails and mocktails b
 y Mixed MKE\, and a sumptuous grazing board and appetizers from Chef Debor
 ah of Expressively Your Personal Chef Services.\n\nAn uplifting program wi
 ll honor survivors of domestic violence and family homelessness as we look
  forward to the future of the Milwaukee Women’s Center. The event will con
 clude with a “Raise Hope” Fund-A-Need Live Appeal where your contributions
  will make a significant difference in the lives of those we serve.\n\nSpe
 cial thanks go out to our generous sponsors:\n\n<u>Presenting Host</u>: Di
 rect Supply\n<u>Presenting Co-Sponsors</u>: Foley & Lardner LLP and the Ho
 use Family Foundation\n<u>Resilience Builder</u>: J.A.M.E.S. \n<u>Healing 
 Partner</u>: We Energies and Bader Philanthropies\n<u>Hope Sponsor</u>: Mo
 lly Maid and AF Technical Resources\n<u>Empowerment Ally</u>: Greater Milw
 aukee Foundation\, The Guest House\, Legal Aid Society of Milwaukee\, Jim 
 Schleif and Bill Morley\, Signature Services Group\, LLC\, and Town Bank 
 \n<u>Donated Goods and Services</u>: Reyes Coca-Cola Bottling\, Total Wine
  & More        \n\n\n
X-WR-RELCALID:1ec48d8edb0ccfe011883bc638f76a89
X-WR-TIMEZONE:America/Chicago
BEGIN:VTIMEZONE
TZID:America/Chicago
BEGIN:STANDARD
TZNAME:CST
DTSTART:20241103T020000
TZOFFSETFROM:-0500
TZOFFSETTO:-0600
RDATE:20251102T020000
RDATE:20261101T020000
END:STANDARD
BEGIN:DAYLIGHT
TZNAME:CDT
DTSTART:20250309T020000
TZOFFSETFROM:-0600
TZOFFSETTO:-0500
RDATE:20260308T020000
END:DAYLIGHT
END:VTIMEZONE
BEGIN:VEVENT
UID:7668934d-7c5a-459c-8d5d-90ee338f42bf
DTSTAMP:20260420T221412Z
DESCRIPTION:<center><b>Please join us July 10 for an inspiring evening as w
 e celebrate the Milwaukee Women’s Center’s 45-year legacy of safety\, hope
  and healing.</b></center>\n\n<u>Hosts</u>: Direct Supply & Community Advo
 cates Inc.\n\n<u>Milwaukee Women’s Center 45th Anniversary Co-Chairs</u>: 
 Kate Venne & Sandy Samse\n\n<u>Presenting Co-Sponsors</u>: Foley & Lardner
  LLP & The House Family Foundation\n\n<u>Emcee</u>: Alexandria Mack\n\n<b>
 Event Highlights</b>\n4:30 p.m.: Social Hour\n5:30 p.m.: Program & ”Raise 
 Hope” Fund-A-Need Live Appeal\n\nThis special evening will feature a vibra
 nt social hour with entertainment\, handcrafted cocktails and mocktails by
  Mixed MKE\, and a sumptuous grazing board and appetizers from Chef Debora
 h of Expressively Your Personal Chef Services.\n\nAn uplifting program wil
 l honor survivors of domestic violence and family homelessness as we look 
 forward to the future of the Milwaukee Women’s Center. The event will conc
 lude with a “Raise Hope” Fund-A-Need Live Appeal where your contributions 
 will make a significant difference in the lives of those we serve.\n\nSpec
 ial thanks go out to our generous sponsors:\n\n<u>Presenting Host</u>: Dir
 ect Supply\n<u>Presenting Co-Sponsors</u>: Foley & Lardner LLP and the Hou
 se Family Foundation\n<u>Resilience Builder</u>: J.A.M.E.S. \n<u>Healing P
 artner</u>: We Energies and Bader Philanthropies\n<u>Hope Sponsor</u>: Mol
 ly Maid and AF Technical Resources\n<u>Empowerment Ally</u>: Greater Milwa
 ukee Foundation\, The Guest House\, Legal Aid Society of Milwaukee\, Jim S
 chleif and Bill Morley\, Signature Services Group\, LLC\, and Town Bank \n
 <u>Donated Goods and Services</u>: Reyes Coca-Cola Bottling\, Total Wine &
  More        \n\n\n
DTSTART;TZID=America/Chicago:20250710T163000
DTEND;TZID=America/Chicago:20250710T193000
LOCATION:Direct Supply Innovation and Technology Center\, 1020 N. Broadway\
 , Milwaukee\, WI 53202 US
SUMMARY:Milwaukee Women's Center 45th Anniversary Celebration
END:VEVENT
END:VCALENDAR
