BEGIN:VCALENDAR
VERSION:2.0
PRODID:-//communityadvocates.net//NONSGML kigkonsult.se iCalcreator 2.30.10
 //
CALSCALE:GREGORIAN
METHOD:PUBLISH
UID:3b59b52c-136d-489a-afc6-59383df05bd2
X-WR-CALDESC:Community Advocates will be closed on Friday\, July 4 to obser
 ve the Independence Day holiday. However\, our 24-hour sites\, the Milwauk
 ee Women's Center Emergency Shelter and Autumn West Safe Haven\, will rema
 in open. If you are experiencing a domestic violence situation\, please ca
 ll our 24-hour crisis line at 414-671-6140. If you need help with your bas
 ic needs\, contact IMPACT 211. We'll be back in touch on Monday\, July 7.
X-WR-RELCALID:8fda69bd8743c03d8d5a231542e0eabe
X-WR-TIMEZONE:America/Chicago
BEGIN:VTIMEZONE
TZID:America/Chicago
BEGIN:STANDARD
TZNAME:CST
DTSTART:20241103T020000
TZOFFSETFROM:-0500
TZOFFSETTO:-0600
RDATE:20251102T020000
RDATE:20261101T020000
END:STANDARD
BEGIN:DAYLIGHT
TZNAME:CDT
DTSTART:20250309T020000
TZOFFSETFROM:-0600
TZOFFSETTO:-0500
RDATE:20260308T020000
END:DAYLIGHT
END:VTIMEZONE
BEGIN:VEVENT
UID:31ab7ac1-710a-44d8-8460-553f1505ffb9
DTSTAMP:20260420T221611Z
DESCRIPTION:Community Advocates will be closed on Friday\, July 4 to observ
 e the Independence Day holiday. However\, our 24-hour sites\, the Milwauke
 e Women's Center Emergency Shelter and Autumn West Safe Haven\, will remai
 n open. If you are experiencing a domestic violence situation\, please cal
 l our 24-hour crisis line at 414-671-6140. If you need help with your basi
 c needs\, contact IMPACT 211. We'll be back in touch on Monday\, July 7.
DTSTART;TZID=America/Chicago:20250704T050000
DTEND;TZID=America/Chicago:20250704T050001
LOCATION:
SUMMARY:Fourth of July Holiday Observance
END:VEVENT
END:VCALENDAR
