BEGIN:VCALENDAR
VERSION:2.0
PRODID:-//communityadvocates.net//NONSGML kigkonsult.se iCalcreator 2.30.10
 //
CALSCALE:GREGORIAN
METHOD:PUBLISH
UID:660f5e4b-48a8-4700-a09a-e45628a63b6f
X-WR-CALDESC:<b>¡CAMBIO DE LOCACION!</b> \nUrban Ecology Center\, Menomonee
  Valley Branch\n3700 W Pierce St Milwaukee\, WI (En la Pierce y la 37)\n\n
 Con mucho cariño Escucha tus Emociones les invita al siguiente Círculo de 
 Sanación: \n\nLa Danza Sana: La Medicina de la Cultura y el Movimiento Anc
 estral para Alimentar al Cuerpo Humano\ncon Alejandra Jiménez\nSábado\, 21
  de Junio\, 3:00-5:00pm\n\n¡CAMBIO DE LOCACION! \nUrban Ecology Center\, M
 enomonee Valley Branch\n3700 W Pierce St Milwaukee\, WI (En la Pierce y la
  37)\n\n\n¡Evento gratuito!\nEvento realizado en español\n\nEscucha tus Em
 ociones les invita a este evento de sanación con Alejandra Jiménez\, direc
 tora del grupo Ometochtli Mexican Folk Dance en Milwaukee. Ale baila desde
  que era niña y ha pertenecido a grupos representativos de Morelos desde q
 ue tenía 12 años. En su trayecto de vida se ha dado cuenta que la cultura 
 y el movimiento\, como arte\, cura. Nos guiará a reconectar con nuestra cu
 ltura ancestral y la madre tierra a través de reflexiones\, actividades y 
 movimiento.\n\nSe servirán refrigerios saludables.\n\n¿Qué debo traer?\n- 
 Ropa y zapatos cómodos\n- Una botella de agua\n- Una voluntad de explorar 
 sus emociones auténticas y conectarse con su misme y otras personas\n\nEsc
 ucha tus Emociones es una iniciativa comunitaria de salud mental que enfat
 iza la importancia de desestigmatizar las conversaciones y proporcionar co
 nocimiento\, recursos comunitarios y herramientas prácticas para apoyar la
  salud mental y el bienestar.\n\nEste Círculo de Sanación es gratuito para
  la comunidad gracias al apoyo y financiación de Community Advocates y Bet
 ter Ways to Cope.\n\nInscríbase en el enlace para garantizar su espacio pa
 ra este círculo. Para una experiencia completa\, favor de llegar a tiempo 
 y quedarse hasta el final.\n\n¿Preguntas? --> escuchatusemocionesinfo@gmai
 l.com
X-WR-RELCALID:403563ab35ff791e46747980b55d2f38
X-WR-TIMEZONE:America/Chicago
BEGIN:VTIMEZONE
TZID:America/Chicago
BEGIN:STANDARD
TZNAME:CST
DTSTART:20241103T020000
TZOFFSETFROM:-0500
TZOFFSETTO:-0600
RDATE:20251102T020000
RDATE:20261101T020000
END:STANDARD
BEGIN:DAYLIGHT
TZNAME:CDT
DTSTART:20250309T020000
TZOFFSETFROM:-0600
TZOFFSETTO:-0500
RDATE:20260308T020000
END:DAYLIGHT
END:VTIMEZONE
BEGIN:VEVENT
UID:4d0efa9a-634f-40e9-8440-01f1d30c55f9
DTSTAMP:20260420T234926Z
DESCRIPTION:<b>¡CAMBIO DE LOCACION!</b> \nUrban Ecology Center\, Menomonee 
 Valley Branch\n3700 W Pierce St Milwaukee\, WI (En la Pierce y la 37)\n\nC
 on mucho cariño Escucha tus Emociones les invita al siguiente Círculo de S
 anación: \n\nLa Danza Sana: La Medicina de la Cultura y el Movimiento Ance
 stral para Alimentar al Cuerpo Humano\ncon Alejandra Jiménez\nSábado\, 21 
 de Junio\, 3:00-5:00pm\n\n¡CAMBIO DE LOCACION! \nUrban Ecology Center\, Me
 nomonee Valley Branch\n3700 W Pierce St Milwaukee\, WI (En la Pierce y la 
 37)\n\n\n¡Evento gratuito!\nEvento realizado en español\n\nEscucha tus Emo
 ciones les invita a este evento de sanación con Alejandra Jiménez\, direct
 ora del grupo Ometochtli Mexican Folk Dance en Milwaukee. Ale baila desde 
 que era niña y ha pertenecido a grupos representativos de Morelos desde qu
 e tenía 12 años. En su trayecto de vida se ha dado cuenta que la cultura y
  el movimiento\, como arte\, cura. Nos guiará a reconectar con nuestra cul
 tura ancestral y la madre tierra a través de reflexiones\, actividades y m
 ovimiento.\n\nSe servirán refrigerios saludables.\n\n¿Qué debo traer?\n- R
 opa y zapatos cómodos\n- Una botella de agua\n- Una voluntad de explorar s
 us emociones auténticas y conectarse con su misme y otras personas\n\nEscu
 cha tus Emociones es una iniciativa comunitaria de salud mental que enfati
 za la importancia de desestigmatizar las conversaciones y proporcionar con
 ocimiento\, recursos comunitarios y herramientas prácticas para apoyar la 
 salud mental y el bienestar.\n\nEste Círculo de Sanación es gratuito para 
 la comunidad gracias al apoyo y financiación de Community Advocates y Bett
 er Ways to Cope.\n\nInscríbase en el enlace para garantizar su espacio par
 a este círculo. Para una experiencia completa\, favor de llegar a tiempo y
  quedarse hasta el final.\n\n¿Preguntas? --> escuchatusemocionesinfo@gmail
 .com
DTSTART;TZID=America/Chicago:20250621T150000
DTEND;TZID=America/Chicago:20250621T170000
LOCATION:Urban Ecology Center\, Menomonee Valley Branch\, 3700 W Pierce St 
 (En la Pierce y la 37)\, Milwaukee\, WI 53215 US
SUMMARY:La Danza Sana: La Medicina de la Cultura y el Movimiento Ancestral 
 para Alimentar al Cuerpo Humano
END:VEVENT
END:VCALENDAR
