BEGIN:VCALENDAR
VERSION:2.0
PRODID:-//communityadvocates.net//NONSGML kigkonsult.se iCalcreator 2.30.10
 //
CALSCALE:GREGORIAN
METHOD:PUBLISH
UID:6ec2651b-8faa-443e-9690-1f46d1fc8462
X-WR-CALDESC:Community Advocates' offices will be closed on Thursday\, June
  19\, to celebrate Juneteenth.\n\nOur Milwaukee Women's Center Emergency S
 helter and Autumn West Safe Haven will remain open. If you are experiencin
 g a domestic violence situation\, please call our 24-hour crisis line at 4
 14-671-6140. We want to hear from you. We will be back in touch on Friday\
 , June 20.
X-WR-RELCALID:1b45f0590157b298ff0f6c29568f8091
X-WR-TIMEZONE:America/Chicago
BEGIN:VTIMEZONE
TZID:America/Chicago
BEGIN:STANDARD
TZNAME:CST
DTSTART:20241103T020000
TZOFFSETFROM:-0500
TZOFFSETTO:-0600
RDATE:20251102T020000
RDATE:20261101T020000
END:STANDARD
BEGIN:DAYLIGHT
TZNAME:CDT
DTSTART:20250309T020000
TZOFFSETFROM:-0600
TZOFFSETTO:-0500
RDATE:20260308T020000
END:DAYLIGHT
END:VTIMEZONE
BEGIN:VEVENT
UID:842993e3-6843-48e4-b998-abdc9f75cfd0
DTSTAMP:20260421T000225Z
DESCRIPTION:Community Advocates' offices will be closed on Thursday\, June 
 19\, to celebrate Juneteenth.\n\nOur Milwaukee Women's Center Emergency Sh
 elter and Autumn West Safe Haven will remain open. If you are experiencing
  a domestic violence situation\, please call our 24-hour crisis line at 41
 4-671-6140. We want to hear from you. We will be back in touch on Friday\,
  June 20.
DTSTART;TZID=America/Chicago:20250619T050000
DTEND;TZID=America/Chicago:20250619T050001
LOCATION:
SUMMARY:Juneteenth
END:VEVENT
END:VCALENDAR
