BEGIN:VCALENDAR
VERSION:2.0
PRODID:-//communityadvocates.net//NONSGML kigkonsult.se iCalcreator 2.30.10
 //
CALSCALE:GREGORIAN
METHOD:PUBLISH
UID:cc1496b0-529c-489c-bfd5-6c25b5597298
X-WR-CALDESC:<b>Please Note: The Adult Mental Health First Aid course consi
 sts of two hours of self-paced content followed by six hours of instructor
 -led training. The self-paced computer training must be completed at least
  three days prior to the beginning of the course and the one-hour self-pac
 ed post session computer training must be completed as well in order for a
 ttendees to obtain certification. Registration ends May 20 at 12 noon.</b>
 \n\nMental Health First Aid teaches you how to identify\, understand and r
 espond to signs of mental illness and substance use disorders. This traini
 ng gives you the skills you need to reach out and provide initial support 
 to someone who may be developing a mental health or substance use problem 
 and help connect them to the appropriate care.\n\nWhat the Mental Health F
 irst Aid Course offers:\n• Common signs and symptoms of mental illness\n• 
 Common signs and symptoms of substance use\n• How to interact with a perso
 n in crisis\n• How to connect the person with help\n• Content on trauma\, 
 addiction\, and self-care\n\nThe course will teach you how to apply the AL
 GEE action plan:\n• Assess for risk of suicide or harm.\n• Listen nonjudgm
 entally.\n• Give reassurance and information.\n• Encourage appropriate pro
 fessional help.\n• Encourage self-help and other support strategies.\n\nTh
 is session is free and open to everyone. We appreciate your interest in le
 arning more about mental health and wellness.
X-WR-RELCALID:9d6dcc611f0ae4b51babe6bb7ed52ffb
X-WR-TIMEZONE:America/Chicago
BEGIN:VTIMEZONE
TZID:America/Chicago
BEGIN:STANDARD
TZNAME:CST
DTSTART:20241103T020000
TZOFFSETFROM:-0500
TZOFFSETTO:-0600
RDATE:20251102T020000
RDATE:20261101T020000
END:STANDARD
BEGIN:DAYLIGHT
TZNAME:CDT
DTSTART:20250309T020000
TZOFFSETFROM:-0600
TZOFFSETTO:-0500
RDATE:20260308T020000
END:DAYLIGHT
END:VTIMEZONE
BEGIN:VEVENT
UID:ab89c8c5-14e9-4ffc-be93-0c90dbb66d53
DTSTAMP:20260421T010918Z
DESCRIPTION:<b>Please Note: The Adult Mental Health First Aid course consis
 ts of two hours of self-paced content followed by six hours of instructor-
 led training. The self-paced computer training must be completed at least 
 three days prior to the beginning of the course and the one-hour self-pace
 d post session computer training must be completed as well in order for at
 tendees to obtain certification. Registration ends May 20 at 12 noon.</b>
 \n\nMental Health First Aid teaches you how to identify\, understand and r
 espond to signs of mental illness and substance use disorders. This traini
 ng gives you the skills you need to reach out and provide initial support 
 to someone who may be developing a mental health or substance use problem 
 and help connect them to the appropriate care.\n\nWhat the Mental Health F
 irst Aid Course offers:\n• Common signs and symptoms of mental illness\n• 
 Common signs and symptoms of substance use\n• How to interact with a perso
 n in crisis\n• How to connect the person with help\n• Content on trauma\, 
 addiction\, and self-care\n\nThe course will teach you how to apply the AL
 GEE action plan:\n• Assess for risk of suicide or harm.\n• Listen nonjudgm
 entally.\n• Give reassurance and information.\n• Encourage appropriate pro
 fessional help.\n• Encourage self-help and other support strategies.\n\nTh
 is session is free and open to everyone. We appreciate your interest in le
 arning more about mental health and wellness.
DTSTART;TZID=America/Chicago:20250528T090000
DTEND;TZID=America/Chicago:20250528T151500
LOCATION:Via Zoom
SUMMARY:Adult Mental Health First Aid | May 28\, 2025
END:VEVENT
END:VCALENDAR
