BEGIN:VCALENDAR
VERSION:2.0
PRODID:-//communityadvocates.net//NONSGML kigkonsult.se iCalcreator 2.30.10
 //
CALSCALE:GREGORIAN
METHOD:PUBLISH
UID:60e19e94-9737-459f-97e8-a09b3eb5f762
X-WR-CALDESC:Community Advocates will be closed on Monday\, May 26\, to obs
 erve Memorial Day. However\, our 24-hour programs\, Autumn West Safe Haven
  and the Milwaukee Women's Center Emergency Shelter\, will remain open. If
  you are experiencing a domestic violence situation\, please call our 24-h
 our crisis line at 414-671-6140 anytime. If you need help with basic needs
  over the holiday weekend\, contact Impact 211. If you are experiencing an
  emergency and are unsafe\, call 911. We will be back in touch on Tuesday\
 , May 27.
X-WR-RELCALID:5c8eb5db2ef466172db5906d90feb2a7
X-WR-TIMEZONE:America/Chicago
BEGIN:VTIMEZONE
TZID:America/Chicago
BEGIN:STANDARD
TZNAME:CST
DTSTART:20241103T020000
TZOFFSETFROM:-0500
TZOFFSETTO:-0600
RDATE:20251102T020000
RDATE:20261101T020000
END:STANDARD
BEGIN:DAYLIGHT
TZNAME:CDT
DTSTART:20250309T020000
TZOFFSETFROM:-0600
TZOFFSETTO:-0500
RDATE:20260308T020000
END:DAYLIGHT
END:VTIMEZONE
BEGIN:VEVENT
UID:d722c1d0-e557-426e-aa85-a8c227b79bfb
DTSTAMP:20260421T011654Z
DESCRIPTION:Community Advocates will be closed on Monday\, May 26\, to obse
 rve Memorial Day. However\, our 24-hour programs\, Autumn West Safe Haven 
 and the Milwaukee Women's Center Emergency Shelter\, will remain open. If 
 you are experiencing a domestic violence situation\, please call our 24-ho
 ur crisis line at 414-671-6140 anytime. If you need help with basic needs 
 over the holiday weekend\, contact Impact 211. If you are experiencing an 
 emergency and are unsafe\, call 911. We will be back in touch on Tuesday\,
  May 27.
DTSTART;TZID=America/Chicago:20250526T050000
DTEND;TZID=America/Chicago:20250526T050001
LOCATION:
SUMMARY:Memorial Day Observance
END:VEVENT
END:VCALENDAR
