BEGIN:VCALENDAR
VERSION:2.0
PRODID:-//communityadvocates.net//NONSGML kigkonsult.se iCalcreator 2.30.10
 //
CALSCALE:GREGORIAN
METHOD:PUBLISH
UID:08950511-eca5-468b-9ddf-3e8b804267e2
X-WR-CALDESC:The Empowerment Coalition of Milwaukee (ECOM) is a monthly gat
 hering of social services professionals\, advocates\, and consumers organi
 zed by Community Advocates Public Policy Institute. ECOM explores topics t
 hat are vital to Milwaukee’s human services professionals. Each session fe
 atures multiple presentations from experts and opportunities to share reso
 urces. This month’s topic is Mental Health.\n\nSessions will be held in pe
 rson from 9:30 a.m. to 12 noon. The location will be shared with registran
 ts before each session.\n\nFee is $5 for light refreshments and materials 
 and can be paid via credit card. Registrations are not refundable. Kindly 
 make sure to RSVP by the Friday prior to each meeting.\n\nOur 2025 ECOM Wo
 rkshops:\nJanuary 22: Housing\nFebruary 19: Child Abuse and Neglect\, Elde
 r Abuse\, and Medicaid \nMarch 19: Legal Services\nApril 16: W2\, FoodShar
 e\, FSET\, and SSI\nMay 21: Mental Health\nJune 25: LGBTQ+ Services\nJuly 
 16: Adoption\, Foster Care\, Prenatal Services\, and Parenting Support \nA
 ugust 20: Job Services\, Financial Literacy\, and GED \nSeptember 17: Ener
 gy Assistance\nOctober 15: Domestic Violence\nNovember 19: Veterans Servic
 es and Reentry Services\nDecember 17: Planning Session (No fee for this se
 ssion)
X-WR-RELCALID:26078f31695dbd1593a06991f509f235
X-WR-TIMEZONE:America/Chicago
BEGIN:VTIMEZONE
TZID:America/Chicago
BEGIN:STANDARD
TZNAME:CST
DTSTART:20241103T020000
TZOFFSETFROM:-0500
TZOFFSETTO:-0600
RDATE:20251102T020000
RDATE:20261101T020000
END:STANDARD
BEGIN:DAYLIGHT
TZNAME:CDT
DTSTART:20250309T020000
TZOFFSETFROM:-0600
TZOFFSETTO:-0500
RDATE:20260308T020000
END:DAYLIGHT
END:VTIMEZONE
BEGIN:VEVENT
UID:e1f8b12a-571e-4df0-abe7-2f98234c3495
DTSTAMP:20260421T011430Z
DESCRIPTION:The Empowerment Coalition of Milwaukee (ECOM) is a monthly gath
 ering of social services professionals\, advocates\, and consumers organiz
 ed by Community Advocates Public Policy Institute. ECOM explores topics th
 at are vital to Milwaukee’s human services professionals. Each session fea
 tures multiple presentations from experts and opportunities to share resou
 rces. This month’s topic is Mental Health.\n\nSessions will be held in per
 son from 9:30 a.m. to 12 noon. The location will be shared with registrant
 s before each session.\n\nFee is $5 for light refreshments and materials a
 nd can be paid via credit card. Registrations are not refundable. Kindly m
 ake sure to RSVP by the Friday prior to each meeting.\n\nOur 2025 ECOM Wor
 kshops:\nJanuary 22: Housing\nFebruary 19: Child Abuse and Neglect\, Elder
  Abuse\, and Medicaid \nMarch 19: Legal Services\nApril 16: W2\, FoodShare
 \, FSET\, and SSI\nMay 21: Mental Health\nJune 25: LGBTQ+ Services\nJuly 1
 6: Adoption\, Foster Care\, Prenatal Services\, and Parenting Support \nAu
 gust 20: Job Services\, Financial Literacy\, and GED \nSeptember 17: Energ
 y Assistance\nOctober 15: Domestic Violence\nNovember 19: Veterans Service
 s and Reentry Services\nDecember 17: Planning Session (No fee for this ses
 sion)
DTSTART;TZID=America/Chicago:20250521T093000
DTEND;TZID=America/Chicago:20250521T120000
LOCATION:Location TBD
SUMMARY:ECOM Workshop: Mental Health
END:VEVENT
END:VCALENDAR
