BEGIN:VCALENDAR
VERSION:2.0
PRODID:-//communityadvocates.net//NONSGML kigkonsult.se iCalcreator 2.30.10
 //
CALSCALE:GREGORIAN
METHOD:PUBLISH
UID:ba8f704c-18c0-452f-b16e-29578ebaf586
X-WR-CALDESC:During this virtual workshop\, you will learn how to increase 
 safety by utilizing verbal de-escalation techniques. Participants will exp
 lore foundational information on how to reduce the level of conflict throu
 gh self-knowledge\, understand how past experiences influence current beha
 vior\, and practice de-escalation.\n\n<b>This session is free and open to 
 everyone. We appreciate your interest in learning more about mental health
  and wellness.</b>
X-WR-RELCALID:3aeab7b66b2dae1526dbf032ba71ba8c
X-WR-TIMEZONE:America/Chicago
BEGIN:VTIMEZONE
TZID:America/Chicago
BEGIN:STANDARD
TZNAME:CST
DTSTART:20241103T020000
TZOFFSETFROM:-0500
TZOFFSETTO:-0600
RDATE:20251102T020000
RDATE:20261101T020000
END:STANDARD
BEGIN:DAYLIGHT
TZNAME:CDT
DTSTART:20250309T020000
TZOFFSETFROM:-0600
TZOFFSETTO:-0500
RDATE:20260308T020000
END:DAYLIGHT
END:VTIMEZONE
BEGIN:VEVENT
UID:db3860b8-6c1c-4f28-8b8d-a646e9a19e2a
DTSTAMP:20260421T011655Z
DESCRIPTION:During this virtual workshop\, you will learn how to increase s
 afety by utilizing verbal de-escalation techniques. Participants will expl
 ore foundational information on how to reduce the level of conflict throug
 h self-knowledge\, understand how past experiences influence current behav
 ior\, and practice de-escalation.\n\n<b>This session is free and open to e
 veryone. We appreciate your interest in learning more about mental health 
 and wellness.</b>
DTSTART;TZID=America/Chicago:20250513T090000
DTEND;TZID=America/Chicago:20250513T103000
LOCATION:Via Zoom
SUMMARY:Verbal De-Escalation Techniques | May 13\, 2025
END:VEVENT
END:VCALENDAR
