BEGIN:VCALENDAR
VERSION:2.0
PRODID:-//communityadvocates.net//NONSGML kigkonsult.se iCalcreator 2.30.10
 //
CALSCALE:GREGORIAN
METHOD:PUBLISH
UID:1ab202bb-24fb-41dc-abca-5b2333d6a44f
X-WR-CALDESC:How well do you cope with stress? And can stress ever be good 
 for you?\n\nIn this two-hour webinar\, participants will be able to:\n+ Id
 entify the early warning signs of stress\, types of stress\, and effects o
 f stress\n+ Understand positive and negative coping styles\, plus your per
 sonal coping style\n+ Learn specific skills to cope well with and thrive f
 rom stress\n\n<b>This session is open to everyone and is offered free of c
 harge. We appreciate your interest in learning more about mental health an
 d wellness.<b></b></b>
X-WR-RELCALID:864b65c6de687e3468359398de60cf82
X-WR-TIMEZONE:America/Chicago
BEGIN:VTIMEZONE
TZID:America/Chicago
BEGIN:STANDARD
TZNAME:CST
DTSTART:20241103T020000
TZOFFSETFROM:-0500
TZOFFSETTO:-0600
RDATE:20251102T020000
END:STANDARD
BEGIN:DAYLIGHT
TZNAME:CDT
DTSTART:20250309T020000
TZOFFSETFROM:-0600
TZOFFSETTO:-0500
RDATE:20260308T020000
END:DAYLIGHT
END:VTIMEZONE
BEGIN:VEVENT
UID:56e16c53-4e91-4d5b-b59c-617b6e59594f
DTSTAMP:20260421T024749Z
DESCRIPTION:How well do you cope with stress? And can stress ever be good f
 or you?\n\nIn this two-hour webinar\, participants will be able to:\n+ Ide
 ntify the early warning signs of stress\, types of stress\, and effects of
  stress\n+ Understand positive and negative coping styles\, plus your pers
 onal coping style\n+ Learn specific skills to cope well with and thrive fr
 om stress\n\n<b>This session is open to everyone and is offered free of ch
 arge. We appreciate your interest in learning more about mental health and
  wellness.<b></b></b>
DTSTART;TZID=America/Chicago:20250430T090000
DTEND;TZID=America/Chicago:20250430T110000
LOCATION:Via Zoom
SUMMARY:Resilience and Thriving: The Secret Power of Stress | April 30\, 20
 25
END:VEVENT
END:VCALENDAR
