BEGIN:VCALENDAR
VERSION:2.0
PRODID:-//communityadvocates.net//NONSGML kigkonsult.se iCalcreator 2.30.10
 //
CALSCALE:GREGORIAN
METHOD:PUBLISH
UID:c606dcae-a988-4b62-86a8-d0c8fe336f13
X-WR-CALDESC:Con mucho cariño Escucha tus Emociones les invita al siguiente
  Círculo de Sanación: \n<b>“La Medicina del Cacao y el Aliento Consciente'
 </b>\ncon la Psicóloga Ana Paula Soares y las facilitadoras de respiración
  consciente conectada\nViernes\, 25 de Abril\, 6:30pm-9:00pm\nCORE El Cent
 ro\n130 W Bruce St. #300 Milwaukee\, WI\, 53204\n\n¡Evento gratuito y abie
 rto a la comunidad! \nEvento realizado en español\n\nEscucha tus Emociones
  les invita a este evento de sanación emocional con la Psicóloga Ana Paula
  Soares y las facilitadoras de respiración consciente conectada. En este e
 spacio guiado vamos a:\n-Compartir la medicina del cacao y aprender cómo p
 romueve la sanación emocional\n-Practicar la respiración consciente conect
 ada hacía la sanación\n-Crear un espacio para conectarnos y sentirnos en c
 omunidad\n\n¿Qué debo traer?\n- Ropa cómoda\n- Un tapete de yoga\n- Una ma
 nta y/o una almohada para mayor comodidad (opcional)\n- Una voluntad de ex
 plorar sus emociones auténticas y conectarse con su misme y otras personas
 \n\nEscucha tus Emociones es una iniciativa comunitaria de salud mental qu
 e enfatiza la importancia de desestigmatizar las conversaciones y proporci
 onar conocimiento\, recursos comunitarios y herramientas prácticas para ap
 oyar la salud mental y el bienestar.\n\nEste Círculo de Sanación es gratui
 to para la comunidad gracias al apoyo y financiación de Community Advocate
 s y Better Ways to Cope.\n\nInscríbase en el enlace para garantizar su esp
 acio para este círculo. Para una experiencia completa\, favor de llegar a 
 tiempo y quedarse hasta el final.\n\n¿Preguntas? --> escuchatusemocionesin
 fo@gmail.com
X-WR-RELCALID:24b493c0575e96c2018fb11d35920d3e
X-WR-TIMEZONE:America/Chicago
BEGIN:VTIMEZONE
TZID:America/Chicago
BEGIN:STANDARD
TZNAME:CST
DTSTART:20241103T020000
TZOFFSETFROM:-0500
TZOFFSETTO:-0600
RDATE:20251102T020000
END:STANDARD
BEGIN:DAYLIGHT
TZNAME:CDT
DTSTART:20250309T020000
TZOFFSETFROM:-0600
TZOFFSETTO:-0500
RDATE:20260308T020000
END:DAYLIGHT
END:VTIMEZONE
BEGIN:VEVENT
UID:e012903a-3bbf-4dcf-8b37-bf18beb61789
DTSTAMP:20260421T023234Z
DESCRIPTION:Con mucho cariño Escucha tus Emociones les invita al siguiente 
 Círculo de Sanación: \n<b>“La Medicina del Cacao y el Aliento Consciente'<
 /b>\ncon la Psicóloga Ana Paula Soares y las facilitadoras de respiración 
 consciente conectada\nViernes\, 25 de Abril\, 6:30pm-9:00pm\nCORE El Centr
 o\n130 W Bruce St. #300 Milwaukee\, WI\, 53204\n\n¡Evento gratuito y abier
 to a la comunidad! \nEvento realizado en español\n\nEscucha tus Emociones 
 les invita a este evento de sanación emocional con la Psicóloga Ana Paula 
 Soares y las facilitadoras de respiración consciente conectada. En este es
 pacio guiado vamos a:\n-Compartir la medicina del cacao y aprender cómo pr
 omueve la sanación emocional\n-Practicar la respiración consciente conecta
 da hacía la sanación\n-Crear un espacio para conectarnos y sentirnos en co
 munidad\n\n¿Qué debo traer?\n- Ropa cómoda\n- Un tapete de yoga\n- Una man
 ta y/o una almohada para mayor comodidad (opcional)\n- Una voluntad de exp
 lorar sus emociones auténticas y conectarse con su misme y otras personas
 \n\nEscucha tus Emociones es una iniciativa comunitaria de salud mental qu
 e enfatiza la importancia de desestigmatizar las conversaciones y proporci
 onar conocimiento\, recursos comunitarios y herramientas prácticas para ap
 oyar la salud mental y el bienestar.\n\nEste Círculo de Sanación es gratui
 to para la comunidad gracias al apoyo y financiación de Community Advocate
 s y Better Ways to Cope.\n\nInscríbase en el enlace para garantizar su esp
 acio para este círculo. Para una experiencia completa\, favor de llegar a 
 tiempo y quedarse hasta el final.\n\n¿Preguntas? --> escuchatusemocionesin
 fo@gmail.com
DTSTART;TZID=America/Chicago:20250425T183000
DTEND;TZID=America/Chicago:20250425T210000
LOCATION:CORE El Centro\, 130 W. Bruce St. #300\, Milwaukee\, WI 53204 US
SUMMARY:Círculo de Sanación: La Medicina del Cacao y el Aliento Consciente
END:VEVENT
END:VCALENDAR
