BEGIN:VCALENDAR
VERSION:2.0
PRODID:-//communityadvocates.net//NONSGML kigkonsult.se iCalcreator 2.30.10
 //
CALSCALE:GREGORIAN
METHOD:PUBLISH
UID:04970781-abb9-473c-b3cd-9069295f81d6
X-WR-CALDESC:The Empowerment Coalition of Milwaukee (ECOM) is a monthly gat
 hering of social services professionals\, advocates\, and consumers organi
 zed by Community Advocates Public Policy Institute. ECOM explores topics t
 hat are vital to Milwaukee’s human services professionals. Each session fe
 atures multiple presentations from experts and opportunities to share reso
 urces. This month’s topic is W2\, FoodShare\, FSET\, and SSI.\n\nSessions 
 will be held in person from 9:30 a.m. to 12 noon. The location will be sha
 red with registrants before each session.\n\nFee is $5 for light refreshme
 nts and materials and can be paid via credit card. Registrations are not r
 efundable. Kindly make sure to RSVP by the Friday prior to each meeting.\n
 \nOur 2025 ECOM Workshops:\nJanuary 22: Housing\nFebruary 19: Child Abuse 
 and Neglect\, Elder Abuse\, and Medicaid \nMarch 19: Legal Services\nApril
  16: W2\, FoodShare\, FSET\, and SSI\nMay 21: Mental Health\nJune 25: LGBT
 Q+ Services\nJuly 16: Adoption\, Foster Care\, Prenatal Services\, and Par
 enting Support \nAugust 20: Job Services\, Financial Literacy\, and GED \n
 September 17: Energy Assistance\nOctober 15: Domestic Violence\nNovember 1
 9: Veterans Services and Reentry Services\nDecember 17: Planning Session (
 No fee for this session)
X-WR-RELCALID:331402bc254589dbad24fd4910ee1e9f
X-WR-TIMEZONE:America/Chicago
BEGIN:VTIMEZONE
TZID:America/Chicago
BEGIN:STANDARD
TZNAME:CST
DTSTART:20241103T020000
TZOFFSETFROM:-0500
TZOFFSETTO:-0600
RDATE:20251102T020000
END:STANDARD
BEGIN:DAYLIGHT
TZNAME:CDT
DTSTART:20250309T020000
TZOFFSETFROM:-0600
TZOFFSETTO:-0500
RDATE:20260308T020000
END:DAYLIGHT
END:VTIMEZONE
BEGIN:VEVENT
UID:98d86d49-52e6-4008-bda9-620cd1c0e0b2
DTSTAMP:20260421T024249Z
DESCRIPTION:The Empowerment Coalition of Milwaukee (ECOM) is a monthly gath
 ering of social services professionals\, advocates\, and consumers organiz
 ed by Community Advocates Public Policy Institute. ECOM explores topics th
 at are vital to Milwaukee’s human services professionals. Each session fea
 tures multiple presentations from experts and opportunities to share resou
 rces. This month’s topic is W2\, FoodShare\, FSET\, and SSI.\n\nSessions w
 ill be held in person from 9:30 a.m. to 12 noon. The location will be shar
 ed with registrants before each session.\n\nFee is $5 for light refreshmen
 ts and materials and can be paid via credit card. Registrations are not re
 fundable. Kindly make sure to RSVP by the Friday prior to each meeting.\n
 \nOur 2025 ECOM Workshops:\nJanuary 22: Housing\nFebruary 19: Child Abuse 
 and Neglect\, Elder Abuse\, and Medicaid \nMarch 19: Legal Services\nApril
  16: W2\, FoodShare\, FSET\, and SSI\nMay 21: Mental Health\nJune 25: LGBT
 Q+ Services\nJuly 16: Adoption\, Foster Care\, Prenatal Services\, and Par
 enting Support \nAugust 20: Job Services\, Financial Literacy\, and GED \n
 September 17: Energy Assistance\nOctober 15: Domestic Violence\nNovember 1
 9: Veterans Services and Reentry Services\nDecember 17: Planning Session (
 No fee for this session)
DTSTART;TZID=America/Chicago:20250416T093000
DTEND;TZID=America/Chicago:20250416T120000
LOCATION:Location TBD
SUMMARY:ECOM Workshop: W2\, FoodShare\, FSET\, and SSI
END:VEVENT
END:VCALENDAR
