BEGIN:VCALENDAR
VERSION:2.0
PRODID:-//communityadvocates.net//NONSGML kigkonsult.se iCalcreator 2.30.10
 //
CALSCALE:GREGORIAN
METHOD:PUBLISH
UID:f7909d20-8994-46d4-86e8-93fb4649618c
X-WR-CALDESC:Looking for a One-Bedroom Apartment in Milwaukee? Interested i
 n Paying Rent Based on Your Income?  \n\nCommunity Advocates can help elig
 ible tenants afford their next apartment. Tenants can apply for the Berrad
 a Low-Income Based Rental Program to pay reduced rent on a one-bedroom uni
 t in a Berrada Properties building.  \n\nAvailable Units: 1-bedroom apartm
 ents in Berrada Properties buildings in the City of Milwaukee  \n\nEligibi
 lity Requirements:   \n- Not a current Berrada tenant \n- No current\, ope
 n eviction  \n- No conviction of felony or misdemeanors related to a viole
 nt offense\; other convictions to be decided on a case-by-case basis \n\nR
 equired Documents to Bring to Apply:   \n- Valid ID  \n- Proof of income: 
 6 weeks of pay stubs if paid weekly\, 3 pay stubs if paid bi-weekly\, and 
 if receiving SSI/SSDI\, a current award letter \n\nThe Community Advocates
  Housing Team will accept the first 60 people to apply who meet the requir
 ements and have their required documents with them. Community Advocates ca
 n make referrals to other rental housing resources at the event.  \n\n**Th
 is program is part of the Wisconsin DOJ’s settlement with Berrada. Communi
 ty Advocates was selected to administer this program for tenants who want 
 to live in income based housing in Milwaukee.
X-WR-RELCALID:6b999ce1e47a565ace815d86e71239f5
X-WR-TIMEZONE:America/Chicago
BEGIN:VTIMEZONE
TZID:America/Chicago
BEGIN:STANDARD
TZNAME:CST
DTSTART:20241103T020000
TZOFFSETFROM:-0500
TZOFFSETTO:-0600
RDATE:20251102T020000
END:STANDARD
BEGIN:DAYLIGHT
TZNAME:CDT
DTSTART:20250309T020000
TZOFFSETFROM:-0600
TZOFFSETTO:-0500
RDATE:20260308T020000
END:DAYLIGHT
END:VTIMEZONE
BEGIN:VEVENT
UID:c23dd152-3919-4b69-8fc7-ce75356ae1bc
DTSTAMP:20260421T024009Z
DESCRIPTION:Looking for a One-Bedroom Apartment in Milwaukee? Interested in
  Paying Rent Based on Your Income?  \n\nCommunity Advocates can help eligi
 ble tenants afford their next apartment. Tenants can apply for the Berrada
  Low-Income Based Rental Program to pay reduced rent on a one-bedroom unit
  in a Berrada Properties building.  \n\nAvailable Units: 1-bedroom apartme
 nts in Berrada Properties buildings in the City of Milwaukee  \n\nEligibil
 ity Requirements:   \n- Not a current Berrada tenant \n- No current\, open
  eviction  \n- No conviction of felony or misdemeanors related to a violen
 t offense\; other convictions to be decided on a case-by-case basis \n\nRe
 quired Documents to Bring to Apply:   \n- Valid ID  \n- Proof of income: 6
  weeks of pay stubs if paid weekly\, 3 pay stubs if paid bi-weekly\, and i
 f receiving SSI/SSDI\, a current award letter \n\nThe Community Advocates 
 Housing Team will accept the first 60 people to apply who meet the require
 ments and have their required documents with them. Community Advocates can
  make referrals to other rental housing resources at the event.  \n\n**Thi
 s program is part of the Wisconsin DOJ’s settlement with Berrada. Communit
 y Advocates was selected to administer this program for tenants who want t
 o live in income based housing in Milwaukee.
DTSTART;TZID=America/Chicago:20250410T090000
DTEND;TZID=America/Chicago:20250410T150000
LOCATION:Community Advocates \, 728 N. James Lovell Street\, Milwaukee\, WI
  53214 US
SUMMARY:Apartment Application Opportunity Event
END:VEVENT
END:VCALENDAR
