BEGIN:VCALENDAR
VERSION:2.0
PRODID:-//communityadvocates.net//NONSGML kigkonsult.se iCalcreator 2.30.10
 //
CALSCALE:GREGORIAN
METHOD:PUBLISH
UID:34d1ee9e-4fd4-42ee-a435-91f3f95da409
X-WR-CALDESC:During this virtual workshop\, you will learn how to increase 
 safety by utilizing verbal de-escalation techniques. Participants will exp
 lore foundational information on how to reduce the level of conflict throu
 gh self-knowledge\, understand how past experiences influence current beha
 vior\, and practice de-escalation.\n\n<b>This session is free and open to 
 everyone. We appreciate your interest in learning more about mental health
  and wellness.</b>
X-WR-RELCALID:295055720c1d676b982b2862a370cb30
X-WR-TIMEZONE:America/Chicago
BEGIN:VTIMEZONE
TZID:America/Chicago
BEGIN:STANDARD
TZNAME:CST
DTSTART:20241103T020000
TZOFFSETFROM:-0500
TZOFFSETTO:-0600
RDATE:20251102T020000
END:STANDARD
BEGIN:DAYLIGHT
TZNAME:CDT
DTSTART:20250309T020000
TZOFFSETFROM:-0600
TZOFFSETTO:-0500
RDATE:20260308T020000
END:DAYLIGHT
END:VTIMEZONE
BEGIN:VEVENT
UID:2ec25490-7119-416f-980d-982cadc5eed7
DTSTAMP:20260421T025331Z
DESCRIPTION:During this virtual workshop\, you will learn how to increase s
 afety by utilizing verbal de-escalation techniques. Participants will expl
 ore foundational information on how to reduce the level of conflict throug
 h self-knowledge\, understand how past experiences influence current behav
 ior\, and practice de-escalation.\n\n<b>This session is free and open to e
 veryone. We appreciate your interest in learning more about mental health 
 and wellness.</b>
DTSTART;TZID=America/Chicago:20250408T090000
DTEND;TZID=America/Chicago:20250408T103000
LOCATION:Via Zoom
SUMMARY:Verbal De-Escalation Techniques | April 8\, 2025
END:VEVENT
END:VCALENDAR
