BEGIN:VCALENDAR
VERSION:2.0
PRODID:-//communityadvocates.net//NONSGML kigkonsult.se iCalcreator 2.30.10
 //
CALSCALE:GREGORIAN
METHOD:PUBLISH
UID:4cdd50cc-52eb-4fce-acd5-68158be61e03
X-WR-CALDESC:<b>[English follows Spanish text]</b>\n\nViernes\, 28 de Marzo
 \, 6:30pm-9:00pm\nKosciuszko Community Center\n2201 S. 7th St. Milwaukee\,
  WI 53215\n\n¡Evento Gratuito y abierto a la comunidad! \nEvento realizado
  en español con interpretación al inglés.\n\nLes invitamos a nuestro sigui
 ente Círculo de Sanación\, “El Sonido Sana: La Medicina del Sonido y el Si
 lencio\,” con la Musicoterapeuta Abby Jacobi. Desde hace casi 20 años acom
 paña a personas en sus objetivos de autorregulación y conciencia corporal.
  Ella nos guiará en un baño de sonido\, una experiencia meditativa que con
 siste en escuchar sonidos resonantes que envuelven al cuerpo y restauran e
 l sistema nervioso. Este evento está diseñado para la audiencia adulta y n
 o cuenta con cuidado de niñes. Se servirán refrigerios saludables.\n\nEscu
 cha tus Emociones es una iniciativa comunitaria bilingüe en español/inglés
  de salud mental que enfatiza la importancia de desestigmatizar las conver
 saciones y proporcionar conocimiento\, recursos comunitarios y herramienta
 s prácticas para apoyar la salud mental y el bienestar.\n\nEste círculo de
  sanación es gratuito para la comunidad gracias al apoyo y financiación de
  Community Advocates y Better Ways to Cope.\n\nInscríbase en el enlace par
 a garantizar su espacio para este círculo. Para una experiencia completa\,
  favor de llegar a tiempo y quedarse hasta el final.\n\n¿Preguntas? --> es
 cuchatusemocionesinfo@gmail.com\n\n<b>[English text]</b>\nFriday\, March 2
 8th \, 6:30pm - 9:00pm\nKosciuszko Community Center\n2201 S. 7th St. Milwa
 ukee\, WI 53215\n\nFree and open to the community! \nThis event will be he
 ld in Spanish with English interpretation provided.\n\nWe invite you to ou
 r next Healing Circle\, “Sound is Healing: The Medicine of Sound and Silen
 ce\,” with Music Therapist Abby Jacobi. For close to 20 years she has assi
 sted people to reach their goals of self-regulation and body awareness. Sh
 e will guide us in a sound bath\, a meditative experience that consists of
  listening to resonant sounds that envelop the body and restore the nervou
 s system. This event is designed for an adult audience and does not offer 
 childcare. Healthy refreshments will be served.\n\nEscucha tus Emociones i
 s a bilingual (Spanish/English) mental health community initiative that fo
 cuses on the importance of destigmatizing conversations and providing know
 ledge\, community resources and practical tools to support mental health a
 nd wellbeing.\n\nThe healing circle will be free to the community thanks t
 o the support and funding of Community Advocates and Better Ways to Cope. 
 \n\nPlease register at the link to guarantee your space for this circle. F
 or a complete experience\, please arrive on time and stay until the end.\n
 \n¿Questions? --> escuchatusemocionesinfo@gmail.com
X-WR-RELCALID:f39688a76a5589c0dc1fcf0375c09d4b
X-WR-TIMEZONE:America/Chicago
BEGIN:VTIMEZONE
TZID:America/Chicago
BEGIN:STANDARD
TZNAME:CST
DTSTART:20241103T020000
TZOFFSETFROM:-0500
TZOFFSETTO:-0600
RDATE:20251102T020000
END:STANDARD
BEGIN:DAYLIGHT
TZNAME:CDT
DTSTART:20250309T020000
TZOFFSETFROM:-0600
TZOFFSETTO:-0500
RDATE:20260308T020000
END:DAYLIGHT
END:VTIMEZONE
BEGIN:VEVENT
UID:b2456e37-2522-4e59-98a1-66f461d5e2df
DTSTAMP:20260421T035942Z
DESCRIPTION:<b>[English follows Spanish text]</b>\n\nViernes\, 28 de Marzo\
 , 6:30pm-9:00pm\nKosciuszko Community Center\n2201 S. 7th St. Milwaukee\, 
 WI 53215\n\n¡Evento Gratuito y abierto a la comunidad! \nEvento realizado 
 en español con interpretación al inglés.\n\nLes invitamos a nuestro siguie
 nte Círculo de Sanación\, “El Sonido Sana: La Medicina del Sonido y el Sil
 encio\,” con la Musicoterapeuta Abby Jacobi. Desde hace casi 20 años acomp
 aña a personas en sus objetivos de autorregulación y conciencia corporal. 
 Ella nos guiará en un baño de sonido\, una experiencia meditativa que cons
 iste en escuchar sonidos resonantes que envuelven al cuerpo y restauran el
  sistema nervioso. Este evento está diseñado para la audiencia adulta y no
  cuenta con cuidado de niñes. Se servirán refrigerios saludables.\n\nEscuc
 ha tus Emociones es una iniciativa comunitaria bilingüe en español/inglés 
 de salud mental que enfatiza la importancia de desestigmatizar las convers
 aciones y proporcionar conocimiento\, recursos comunitarios y herramientas
  prácticas para apoyar la salud mental y el bienestar.\n\nEste círculo de 
 sanación es gratuito para la comunidad gracias al apoyo y financiación de 
 Community Advocates y Better Ways to Cope.\n\nInscríbase en el enlace para
  garantizar su espacio para este círculo. Para una experiencia completa\, 
 favor de llegar a tiempo y quedarse hasta el final.\n\n¿Preguntas? --> esc
 uchatusemocionesinfo@gmail.com\n\n<b>[English text]</b>\nFriday\, March 28
 th \, 6:30pm - 9:00pm\nKosciuszko Community Center\n2201 S. 7th St. Milwau
 kee\, WI 53215\n\nFree and open to the community! \nThis event will be hel
 d in Spanish with English interpretation provided.\n\nWe invite you to our
  next Healing Circle\, “Sound is Healing: The Medicine of Sound and Silenc
 e\,” with Music Therapist Abby Jacobi. For close to 20 years she has assis
 ted people to reach their goals of self-regulation and body awareness. She
  will guide us in a sound bath\, a meditative experience that consists of 
 listening to resonant sounds that envelop the body and restore the nervous
  system. This event is designed for an adult audience and does not offer c
 hildcare. Healthy refreshments will be served.\n\nEscucha tus Emociones is
  a bilingual (Spanish/English) mental health community initiative that foc
 uses on the importance of destigmatizing conversations and providing knowl
 edge\, community resources and practical tools to support mental health an
 d wellbeing.\n\nThe healing circle will be free to the community thanks to
  the support and funding of Community Advocates and Better Ways to Cope. 
 \n\nPlease register at the link to guarantee your space for this circle. F
 or a complete experience\, please arrive on time and stay until the end.\n
 \n¿Questions? --> escuchatusemocionesinfo@gmail.com
DTSTART;TZID=America/Chicago:20250328T183000
DTEND;TZID=America/Chicago:20250328T210000
LOCATION:Kosciuszko Community Center\, 2201 S. 7th Street\, Milwaukee\, WI 
 53215 US
SUMMARY:Escucha tus Emociones Círculo de Sanación
END:VEVENT
END:VCALENDAR
