BEGIN:VCALENDAR
VERSION:2.0
PRODID:-//communityadvocates.net//NONSGML kigkonsult.se iCalcreator 2.30.10
 //
CALSCALE:GREGORIAN
METHOD:PUBLISH
UID:ccdf1338-e11b-41e4-9258-4a7ebdcc6e44
X-WR-CALDESC:This event is part of Light and Unite Red Week.\n\nCome as you
  are for 1 hour of self-care\, renewal\, and community. The Phoenix has in
 tricately woven together a magical mix of āsana\, sacred connection\, yoga
  nidra\, and reiki. Stay after for processing\, tea\, and oracle card read
 ings.\n\nThis class begins at 2:30 p.m. and will be held at the Milwaukee 
 Alano Club at 1521 N. Prospect Ave.
X-WR-RELCALID:8228279267eba1863901a9ca989ad27b
X-WR-TIMEZONE:America/Chicago
BEGIN:VTIMEZONE
TZID:America/Chicago
BEGIN:STANDARD
TZNAME:CST
DTSTART:20241103T020000
TZOFFSETFROM:-0500
TZOFFSETTO:-0600
RDATE:20251102T020000
END:STANDARD
BEGIN:DAYLIGHT
TZNAME:CDT
DTSTART:20250309T020000
TZOFFSETFROM:-0600
TZOFFSETTO:-0500
RDATE:20260308T020000
END:DAYLIGHT
END:VTIMEZONE
BEGIN:VEVENT
UID:32d21ea1-d4fd-401f-b902-ac12b7487940
DTSTAMP:20260421T035650Z
DESCRIPTION:This event is part of Light and Unite Red Week.\n\nCome as you 
 are for 1 hour of self-care\, renewal\, and community. The Phoenix has int
 ricately woven together a magical mix of āsana\, sacred connection\, yoga 
 nidra\, and reiki. Stay after for processing\, tea\, and oracle card readi
 ngs.\n\nThis class begins at 2:30 p.m. and will be held at the Milwaukee A
 lano Club at 1521 N. Prospect Ave.
DTSTART;TZID=America/Chicago:20250323T143000
DTEND;TZID=America/Chicago:20250323T153000
LOCATION:Milwaukee Alano Club\, 1521 N. Prosepct Ave.\, Milwaukee\, WI 5320
 2 US
SUMMARY:Phoenix Yoga
END:VEVENT
END:VCALENDAR
