BEGIN:VCALENDAR
VERSION:2.0
PRODID:-//communityadvocates.net//NONSGML kigkonsult.se iCalcreator 2.30.10
 //
CALSCALE:GREGORIAN
METHOD:PUBLISH
UID:5959c37c-97ab-47d1-8620-636533d04d4e
X-WR-CALDESC:This event is part of Light and Unite Red Week.\n\nCome as you
  are for 2 hours of self-care\, renewal\, and community. The Phoenix has i
 ntricately woven together a magical mix of āsana\, sacred connection\, yog
 a nidra\, and reiki. Stay after for processing\, tea\, and oracle card rea
 dings.\n\nThis class begins at 12 noon and will be held at the Milwaukee A
 lano Club at 1521 N. Prospect Ave.
X-WR-RELCALID:d93cb00bd294fec057502e18e2b07a5c
X-WR-TIMEZONE:America/Chicago
BEGIN:VTIMEZONE
TZID:America/Chicago
BEGIN:STANDARD
TZNAME:CST
DTSTART:20241103T020000
TZOFFSETFROM:-0500
TZOFFSETTO:-0600
RDATE:20251102T020000
END:STANDARD
BEGIN:DAYLIGHT
TZNAME:CDT
DTSTART:20250309T020000
TZOFFSETFROM:-0600
TZOFFSETTO:-0500
RDATE:20260308T020000
END:DAYLIGHT
END:VTIMEZONE
BEGIN:VEVENT
UID:9bd95e21-d607-45fb-8779-351394ec1791
DTSTAMP:20260421T041313Z
DESCRIPTION:This event is part of Light and Unite Red Week.\n\nCome as you 
 are for 2 hours of self-care\, renewal\, and community. The Phoenix has in
 tricately woven together a magical mix of āsana\, sacred connection\, yoga
  nidra\, and reiki. Stay after for processing\, tea\, and oracle card read
 ings.\n\nThis class begins at 12 noon and will be held at the Milwaukee Al
 ano Club at 1521 N. Prospect Ave.
DTSTART;TZID=America/Chicago:20250322T120000
DTEND;TZID=America/Chicago:20250322T140000
LOCATION:Milwaukee Alano Club\, 1521 N. Prosepct Ave.\, Milwaukee\, WI 5320
 2 US
SUMMARY:Phoenix Yoga
END:VEVENT
END:VCALENDAR
