BEGIN:VCALENDAR
VERSION:2.0
PRODID:-//communityadvocates.net//NONSGML kigkonsult.se iCalcreator 2.30.10
 //
CALSCALE:GREGORIAN
METHOD:PUBLISH
UID:a83bf04c-c984-43d7-9165-e5a0c9af9044
X-WR-CALDESC:This event is part of Light and Unite Red Week.\n\nJoin Safe a
 nd Sound for a night of mocktails and paint brushes to help shine a light 
 on addiction. Sip Responsibly and Paint is free\, open to the public\, and
  family friendly!\n\nThis event is scheduled from 5 to 7 p.m. and will be 
 held at Safe and Sound at 4422 W. Leon Terrace
X-WR-RELCALID:398309a427a10ecd703f74527f3bdbb9
X-WR-TIMEZONE:America/Chicago
BEGIN:VTIMEZONE
TZID:America/Chicago
BEGIN:STANDARD
TZNAME:CST
DTSTART:20241103T020000
TZOFFSETFROM:-0500
TZOFFSETTO:-0600
RDATE:20251102T020000
END:STANDARD
BEGIN:DAYLIGHT
TZNAME:CDT
DTSTART:20250309T020000
TZOFFSETFROM:-0600
TZOFFSETTO:-0500
RDATE:20260308T020000
END:DAYLIGHT
END:VTIMEZONE
BEGIN:VEVENT
UID:0ece50a3-b407-40c2-9683-788960411593
DTSTAMP:20260421T035629Z
DESCRIPTION:This event is part of Light and Unite Red Week.\n\nJoin Safe an
 d Sound for a night of mocktails and paint brushes to help shine a light o
 n addiction. Sip Responsibly and Paint is free\, open to the public\, and 
 family friendly!\n\nThis event is scheduled from 5 to 7 p.m. and will be h
 eld at Safe and Sound at 4422 W. Leon Terrace
DTSTART;TZID=America/Chicago:20250321T170000
DTEND;TZID=America/Chicago:20250321T190000
LOCATION:Safe and Sound\, 4422 W. Leon Terrace\, Milwaukee\, WI 53216 US
SUMMARY:Sip Responsibly & Paint (with Mocktails)
END:VEVENT
END:VCALENDAR
