BEGIN:VCALENDAR
VERSION:2.0
PRODID:-//communityadvocates.net//NONSGML kigkonsult.se iCalcreator 2.30.10
 //
CALSCALE:GREGORIAN
METHOD:PUBLISH
UID:45357f05-ce57-42c6-8b8b-c326564aa394
X-WR-CALDESC:<b>Please Note: The Adult Mental Health First Aid course consi
 sts of two hours of self-paced content followed by six hours of instructor
 -led training. The self-paced computer training must be completed at least
  three days prior to the beginning of the course and the one-hour self-pac
 ed post session computer training must be completed as well in order for a
 ttendees to obtain certification. Registration ends March 17 at 12 noon.</
 b>\n\nMental Health First Aid teaches you how to identify\, understand and
  respond to signs of mental illness and substance use disorders. This trai
 ning gives you the skills you need to reach out and provide initial suppor
 t to someone who may be developing a mental health or substance use proble
 m and help connect them to the appropriate care.\n\nWhat the Mental Health
  First Aid Course offers:\n• Common signs and symptoms of mental illness\n
 • Common signs and symptoms of substance use\n• How to interact with a per
 son in crisis\n• How to connect the person with help\n• Content on trauma\
 , addiction\, and self-care\n\nThe course will teach you how to apply the 
 ALGEE action plan:\n• Assess for risk of suicide or harm.\n• Listen nonjud
 gmentally.\n• Give reassurance and information.\n• Encourage appropriate p
 rofessional help.\n• Encourage self-help and other support strategies.\n\n
 <b>This session is free and open to everyone. We appreciate your interest 
 in learning more about mental health and wellness.</b>
X-WR-RELCALID:d3bbbe5d0be796b452f645db4553b0e1
X-WR-TIMEZONE:America/Chicago
BEGIN:VTIMEZONE
TZID:America/Chicago
BEGIN:STANDARD
TZNAME:CST
DTSTART:20241103T020000
TZOFFSETFROM:-0500
TZOFFSETTO:-0600
RDATE:20251102T020000
END:STANDARD
BEGIN:DAYLIGHT
TZNAME:CDT
DTSTART:20250309T020000
TZOFFSETFROM:-0600
TZOFFSETTO:-0500
RDATE:20260308T020000
END:DAYLIGHT
END:VTIMEZONE
BEGIN:VEVENT
UID:265553b7-70d8-4cb6-be69-818ad0fa68a8
DTSTAMP:20260421T040135Z
DESCRIPTION:<b>Please Note: The Adult Mental Health First Aid course consis
 ts of two hours of self-paced content followed by six hours of instructor-
 led training. The self-paced computer training must be completed at least 
 three days prior to the beginning of the course and the one-hour self-pace
 d post session computer training must be completed as well in order for at
 tendees to obtain certification. Registration ends March 17 at 12 noon.</b
 >\n\nMental Health First Aid teaches you how to identify\, understand and 
 respond to signs of mental illness and substance use disorders. This train
 ing gives you the skills you need to reach out and provide initial support
  to someone who may be developing a mental health or substance use problem
  and help connect them to the appropriate care.\n\nWhat the Mental Health 
 First Aid Course offers:\n• Common signs and symptoms of mental illness\n•
  Common signs and symptoms of substance use\n• How to interact with a pers
 on in crisis\n• How to connect the person with help\n• Content on trauma\,
  addiction\, and self-care\n\nThe course will teach you how to apply the A
 LGEE action plan:\n• Assess for risk of suicide or harm.\n• Listen nonjudg
 mentally.\n• Give reassurance and information.\n• Encourage appropriate pr
 ofessional help.\n• Encourage self-help and other support strategies.\n\n<
 b>This session is free and open to everyone. We appreciate your interest i
 n learning more about mental health and wellness.</b>
DTSTART;TZID=America/Chicago:20250321T090000
DTEND;TZID=America/Chicago:20250321T151500
LOCATION:Via Zoom
SUMMARY:Adult Mental Health First Aid | March 21\, 2025
END:VEVENT
END:VCALENDAR
